BEGIN:VCALENDAR
VERSION:2.0
PRODID:-//JoinUs Gruppentreffen - ECPv6.15.20//NONSGML v1.0//EN
CALSCALE:GREGORIAN
METHOD:PUBLISH
X-ORIGINAL-URL:https://cms.joinusgruppentreffen.eu
X-WR-CALDESC:Veranstaltungen für JoinUs Gruppentreffen
REFRESH-INTERVAL;VALUE=DURATION:PT1H
X-Robots-Tag:noindex
X-PUBLISHED-TTL:PT1H
BEGIN:VTIMEZONE
TZID:UTC
BEGIN:STANDARD
TZOFFSETFROM:+0000
TZOFFSETTO:+0000
TZNAME:UTC
DTSTART:20230101T000000
END:STANDARD
END:VTIMEZONE
BEGIN:VEVENT
DTSTART;TZID=UTC:20240216T180000
DTEND;TZID=UTC:20240216T200000
DTSTAMP:20260423T060638
CREATED:20240215T134920Z
LAST-MODIFIED:20250124T062323Z
UID:2758-1708106400-1708113600@cms.joinusgruppentreffen.eu
SUMMARY:Billard in Pfaffenhofen
DESCRIPTION:
URL:https://cms.joinusgruppentreffen.eu/event/billard-in-pfaffenhofen/
LOCATION:Forplay Pfaffenhofen\, Ledererstr. 4 Pfaffenhofen \, 85276\, 85276\, Germany
CATEGORIES:Sport
ATTACH;FMTTYPE=image/jpeg:https://cms.joinusgruppentreffen.eu/wp-content/uploads/2024/09/Billard.jpg
ORGANIZER;CN="JoinUS Founder%3A Bettina Bergmann":MAILTO:bettina@joinus-gruppentreffen.com
END:VEVENT
BEGIN:VEVENT
DTSTART;TZID=UTC:20240216T200000
DTEND;TZID=UTC:20240216T220000
DTSTAMP:20260423T060638
CREATED:20240215T135149Z
LAST-MODIFIED:20240224T042015Z
UID:2762-1708113600-1708120800@cms.joinusgruppentreffen.eu
SUMMARY:Kino in Pfaffenhofen - wo die Lüge hinfällt
DESCRIPTION:
URL:https://cms.joinusgruppentreffen.eu/event/kino-in-pfaffenhofen-wo-die-luge-hinfallt/
LOCATION:Cineplex Pfaffenhofen
CATEGORIES:Party's
ORGANIZER;CN="Bettina Bergmann":MAILTO:bettina@joinusgruppentreffen.eu
END:VEVENT
END:VCALENDAR