BEGIN:VCALENDAR
VERSION:2.0
PRODID:-//JoinUs Gruppentreffen - ECPv6.15.20//NONSGML v1.0//EN
CALSCALE:GREGORIAN
METHOD:PUBLISH
X-WR-CALNAME:JoinUs Gruppentreffen
X-ORIGINAL-URL:https://cms.joinusgruppentreffen.eu
X-WR-CALDESC:Veranstaltungen für JoinUs Gruppentreffen
REFRESH-INTERVAL;VALUE=DURATION:PT1H
X-Robots-Tag:noindex
X-PUBLISHED-TTL:PT1H
BEGIN:VTIMEZONE
TZID:UTC
BEGIN:STANDARD
TZOFFSETFROM:+0000
TZOFFSETTO:+0000
TZNAME:UTC
DTSTART:20230101T000000
END:STANDARD
END:VTIMEZONE
BEGIN:VEVENT
DTSTART;TZID=UTC:20240218T100000
DTEND;TZID=UTC:20240218T170000
DTSTAMP:20260423T060239
CREATED:20240215T135650Z
LAST-MODIFIED:20240224T042001Z
UID:2766-1708250400-1708275600@cms.joinusgruppentreffen.eu
SUMMARY:Frühstück bei Tina's Backträume in Pfaffenhofen
DESCRIPTION:
URL:https://cms.joinusgruppentreffen.eu/event/fruhstuck-bei-tinas-backtraume-in-pfaffenhofen/
LOCATION:Tina’s Backträume\, Spitalstr. 1\, Pfaffenhofen\, 85276
CATEGORIES:Essen,Kultur
ORGANIZER;CN="Bettina Bergmann":MAILTO:bettina@joinusgruppentreffen.eu
END:VEVENT
END:VCALENDAR