BEGIN:VCALENDAR
VERSION:2.0
PRODID:-//JoinUs Gruppentreffen - ECPv6.15.20//NONSGML v1.0//EN
CALSCALE:GREGORIAN
METHOD:PUBLISH
X-ORIGINAL-URL:https://cms.joinusgruppentreffen.eu
X-WR-CALDESC:Veranstaltungen für JoinUs Gruppentreffen
REFRESH-INTERVAL;VALUE=DURATION:PT1H
X-Robots-Tag:noindex
X-PUBLISHED-TTL:PT1H
BEGIN:VTIMEZONE
TZID:UTC
BEGIN:STANDARD
TZOFFSETFROM:+0000
TZOFFSETTO:+0000
TZNAME:UTC
DTSTART:20230101T000000
END:STANDARD
END:VTIMEZONE
BEGIN:VEVENT
DTSTART;TZID=UTC:20240223T180000
DTEND;TZID=UTC:20240223T210000
DTSTAMP:20260423T060704
CREATED:20240215T140230Z
LAST-MODIFIED:20240222T131106Z
UID:2774-1708711200-1708722000@cms.joinusgruppentreffen.eu
SUMMARY:Essen beim Hop Sing (Vietnamese) in Freising
DESCRIPTION:Den Wirt\, Kay kenne ich schon über 10 Jahre und es ist immer wieder eine Freude hier her zu kommen.
URL:https://cms.joinusgruppentreffen.eu/event/essen-beim-hop-sing-in-freising/
LOCATION:Hop Sing\, Obere Hauptstr. 63\, Freising\, 85354
CATEGORIES:Essen,Kultur
ATTACH;FMTTYPE=image/jpeg:https://cms.joinusgruppentreffen.eu/wp-content/uploads/2024/02/Hop-Sing-11.7.jpg
ORGANIZER;CN="Bettina Bergmann":MAILTO:bettina@joinusgruppentreffen.eu
END:VEVENT
BEGIN:VEVENT
DTSTART;TZID=UTC:20240223T210000
DTEND;TZID=UTC:20240223T230000
DTSTAMP:20260423T060705
CREATED:20240215T140432Z
LAST-MODIFIED:20240222T131647Z
UID:2777-1708722000-1708729200@cms.joinusgruppentreffen.eu
SUMMARY:Treffen bei Maxi's Bar in Freising
DESCRIPTION:
URL:https://cms.joinusgruppentreffen.eu/event/treffen-bei-maxis-bar-in-freising/
LOCATION:Maxis Bar\, Angerbadgasse\, Freising\, 85354
ORGANIZER;CN="Bettina Bergmann":MAILTO:bettina@joinusgruppentreffen.eu
END:VEVENT
END:VCALENDAR