BEGIN:VCALENDAR
VERSION:2.0
PRODID:-//JoinUs Gruppentreffen - ECPv6.15.20//NONSGML v1.0//EN
CALSCALE:GREGORIAN
METHOD:PUBLISH
X-WR-CALNAME:JoinUs Gruppentreffen
X-ORIGINAL-URL:https://cms.joinusgruppentreffen.eu
X-WR-CALDESC:Veranstaltungen für JoinUs Gruppentreffen
REFRESH-INTERVAL;VALUE=DURATION:PT1H
X-Robots-Tag:noindex
X-PUBLISHED-TTL:PT1H
BEGIN:VTIMEZONE
TZID:UTC
BEGIN:STANDARD
TZOFFSETFROM:+0000
TZOFFSETTO:+0000
TZNAME:UTC
DTSTART:20230101T000000
END:STANDARD
END:VTIMEZONE
BEGIN:VEVENT
DTSTART;TZID=UTC:20240224T120000
DTEND;TZID=UTC:20240224T170000
DTSTAMP:20260423T060236
CREATED:20240218T100235Z
LAST-MODIFIED:20240224T041929Z
UID:2993-1708776000-1708794000@cms.joinusgruppentreffen.eu
SUMMARY:Treffen im Bürgerpark in Pfaffenhofen
DESCRIPTION:Treffpunkt am Kiosk\, oder zu der mit dem gelben Pullover gehen 😀 \nDas Wetter soll echt schön werden 🙂 \nIch würde alkoholfreie Getränke spendieren 🙂 \nNach dem Motto JoinUs – schließ dich uns an!
URL:https://cms.joinusgruppentreffen.eu/event/treffen-im-burgerpark-in-pfaffenhofen/
LOCATION:Bürgerpark\, Weiherer Str. 16\, Pfaffenhofen\, 85276
ORGANIZER;CN="Bettina Bergmann":MAILTO:bettina@joinusgruppentreffen.eu
END:VEVENT
END:VCALENDAR