BEGIN:VCALENDAR
VERSION:2.0
PRODID:-//JoinUs Gruppentreffen - ECPv6.15.20//NONSGML v1.0//EN
CALSCALE:GREGORIAN
METHOD:PUBLISH
X-ORIGINAL-URL:https://cms.joinusgruppentreffen.eu
X-WR-CALDESC:Veranstaltungen für JoinUs Gruppentreffen
REFRESH-INTERVAL;VALUE=DURATION:PT1H
X-Robots-Tag:noindex
X-PUBLISHED-TTL:PT1H
BEGIN:VTIMEZONE
TZID:UTC
BEGIN:STANDARD
TZOFFSETFROM:+0000
TZOFFSETTO:+0000
TZNAME:UTC
DTSTART:20230101T000000
END:STANDARD
END:VTIMEZONE
BEGIN:VEVENT
DTSTART;TZID=UTC:20240225T100000
DTEND;TZID=UTC:20240225T140000
DTSTAMP:20260423T060750
CREATED:20240215T140851Z
LAST-MODIFIED:20240224T125250Z
UID:2783-1708855200-1708869600@cms.joinusgruppentreffen.eu
SUMMARY:Brunch am Schafhof in Freising
DESCRIPTION:Kosten pro Person inkl. Getränke 33€ \ninkl. Frühstücks- und Spanisches Buffet und Getränke
URL:https://cms.joinusgruppentreffen.eu/event/brunch-am-schafhof-in-freising/
LOCATION:Schafhof\, Am Schafhof 1\, Freising\, 85354
ORGANIZER;CN="Bettina Bergmann":MAILTO:bettina@joinusgruppentreffen.eu
END:VEVENT
BEGIN:VEVENT
DTSTART;TZID=UTC:20240225T180000
DTEND;TZID=UTC:20240225T210000
DTSTAMP:20260423T060750
CREATED:20240215T140036Z
LAST-MODIFIED:20240222T133940Z
UID:2770-1708884000-1708894800@cms.joinusgruppentreffen.eu
SUMMARY:Rätselabend in Freising
DESCRIPTION:
URL:https://cms.joinusgruppentreffen.eu/event/ratselabend-in-freising/
LOCATION:Bräustüberl Weihenstephan\, Weihenstephaner Berg 10\, Freising\, 85354\, Deutschland
ORGANIZER;CN="Bettina Bergmann":MAILTO:bettina@joinusgruppentreffen.eu
END:VEVENT
END:VCALENDAR