BEGIN:VCALENDAR
VERSION:2.0
PRODID:-//JoinUs Gruppentreffen - ECPv6.15.20//NONSGML v1.0//EN
CALSCALE:GREGORIAN
METHOD:PUBLISH
X-ORIGINAL-URL:https://cms.joinusgruppentreffen.eu
X-WR-CALDESC:Veranstaltungen für JoinUs Gruppentreffen
REFRESH-INTERVAL;VALUE=DURATION:PT1H
X-Robots-Tag:noindex
X-PUBLISHED-TTL:PT1H
BEGIN:VTIMEZONE
TZID:UTC
BEGIN:STANDARD
TZOFFSETFROM:+0000
TZOFFSETTO:+0000
TZNAME:UTC
DTSTART:20230101T000000
END:STANDARD
END:VTIMEZONE
BEGIN:VEVENT
DTSTART;TZID=UTC:20240301T180000
DTEND;TZID=UTC:20240301T200000
DTSTAMP:20260423T044818
CREATED:20240215T163953Z
LAST-MODIFIED:20240301T135206Z
UID:2829-1709316000-1709323200@cms.joinusgruppentreffen.eu
SUMMARY:Bowling in Pfaffenhofen
DESCRIPTION:Immer wieder ein riesen Spaß 😀
URL:https://cms.joinusgruppentreffen.eu/event/bowling-in-pfaffenhofen/
LOCATION:Hollywood Super Bowling Pfaffenhofen\, Ledererstr. 2\, Pfaffenhofen\, 85276
ATTACH;FMTTYPE=image/jpeg:https://cms.joinusgruppentreffen.eu/wp-content/uploads/2024/02/WhatsApp-Bild-2024-01-29-um-20.00.22_93a272b2.jpg
ORGANIZER;CN="Bettina Bergmann":MAILTO:bettina@joinusgruppentreffen.eu
END:VEVENT
END:VCALENDAR