BEGIN:VCALENDAR
VERSION:2.0
PRODID:-//JoinUs Gruppentreffen - ECPv6.15.20//NONSGML v1.0//EN
CALSCALE:GREGORIAN
METHOD:PUBLISH
X-WR-CALNAME:JoinUs Gruppentreffen
X-ORIGINAL-URL:https://cms.joinusgruppentreffen.eu
X-WR-CALDESC:Veranstaltungen für JoinUs Gruppentreffen
REFRESH-INTERVAL;VALUE=DURATION:PT1H
X-Robots-Tag:noindex
X-PUBLISHED-TTL:PT1H
BEGIN:VTIMEZONE
TZID:UTC
BEGIN:STANDARD
TZOFFSETFROM:+0000
TZOFFSETTO:+0000
TZNAME:UTC
DTSTART:20230101T000000
END:STANDARD
END:VTIMEZONE
BEGIN:VTIMEZONE
TZID:Europe/Paris
BEGIN:DAYLIGHT
TZOFFSETFROM:+0100
TZOFFSETTO:+0200
TZNAME:CEST
DTSTART:20230326T010000
END:DAYLIGHT
BEGIN:STANDARD
TZOFFSETFROM:+0200
TZOFFSETTO:+0100
TZNAME:CET
DTSTART:20231029T010000
END:STANDARD
BEGIN:DAYLIGHT
TZOFFSETFROM:+0100
TZOFFSETTO:+0200
TZNAME:CEST
DTSTART:20240331T010000
END:DAYLIGHT
BEGIN:STANDARD
TZOFFSETFROM:+0200
TZOFFSETTO:+0100
TZNAME:CET
DTSTART:20241027T010000
END:STANDARD
BEGIN:DAYLIGHT
TZOFFSETFROM:+0100
TZOFFSETTO:+0200
TZNAME:CEST
DTSTART:20250330T010000
END:DAYLIGHT
BEGIN:STANDARD
TZOFFSETFROM:+0200
TZOFFSETTO:+0100
TZNAME:CET
DTSTART:20251026T010000
END:STANDARD
END:VTIMEZONE
BEGIN:VEVENT
DTSTART;TZID=UTC:20240317T100000
DTEND;TZID=UTC:20240317T133000
DTSTAMP:20260423T044436
CREATED:20240225T120713Z
LAST-MODIFIED:20240315T040329Z
UID:3359-1710669600-1710682200@cms.joinusgruppentreffen.eu
SUMMARY:Frühstück in der Orangerie in Freising
DESCRIPTION:
URL:https://cms.joinusgruppentreffen.eu/event/fruehstueck-in-der-orangerie-in-freising/
LOCATION:Orangerie Freising\, Am Staudengarten 11\, Freising\, 85354
CATEGORIES:Kultur
ORGANIZER;CN="Bettina Bergmann":MAILTO:bettina@joinusgruppentreffen.eu
END:VEVENT
BEGIN:VEVENT
DTSTART;TZID=Europe/Paris:20240317T160000
DTEND;TZID=Europe/Paris:20240317T190000
DTSTAMP:20260423T044436
CREATED:20240312T102031Z
LAST-MODIFIED:20240317T104948Z
UID:3799-1710691200-1710702000@cms.joinusgruppentreffen.eu
SUMMARY:Dult in Pfaffenhofen
DESCRIPTION:Einfach ein gemütliches Treffen an der Dult. \nTreffpunkt am Rathaus.
URL:https://cms.joinusgruppentreffen.eu/event/dult-in-pfaffenhofen/
LOCATION:Hauptplatz Pfaffenhofen\, Hauptplatz\, Pfaffenhofen\, 85276
ATTACH;FMTTYPE=image/jpeg:https://cms.joinusgruppentreffen.eu/wp-content/uploads/2024/03/Dult-1.jpeg
ORGANIZER;CN="Bettina Bergmann":MAILTO:bettina@joinusgruppentreffen.eu
END:VEVENT
END:VCALENDAR