BEGIN:VCALENDAR
VERSION:2.0
PRODID:-//JoinUs Gruppentreffen - ECPv6.15.20//NONSGML v1.0//EN
CALSCALE:GREGORIAN
METHOD:PUBLISH
X-ORIGINAL-URL:https://cms.joinusgruppentreffen.eu
X-WR-CALDESC:Veranstaltungen für JoinUs Gruppentreffen
REFRESH-INTERVAL;VALUE=DURATION:PT1H
X-Robots-Tag:noindex
X-PUBLISHED-TTL:PT1H
BEGIN:VTIMEZONE
TZID:Europe/Paris
BEGIN:DAYLIGHT
TZOFFSETFROM:+0100
TZOFFSETTO:+0200
TZNAME:CEST
DTSTART:20230326T010000
END:DAYLIGHT
BEGIN:STANDARD
TZOFFSETFROM:+0200
TZOFFSETTO:+0100
TZNAME:CET
DTSTART:20231029T010000
END:STANDARD
BEGIN:DAYLIGHT
TZOFFSETFROM:+0100
TZOFFSETTO:+0200
TZNAME:CEST
DTSTART:20240331T010000
END:DAYLIGHT
BEGIN:STANDARD
TZOFFSETFROM:+0200
TZOFFSETTO:+0100
TZNAME:CET
DTSTART:20241027T010000
END:STANDARD
BEGIN:DAYLIGHT
TZOFFSETFROM:+0100
TZOFFSETTO:+0200
TZNAME:CEST
DTSTART:20250330T010000
END:DAYLIGHT
BEGIN:STANDARD
TZOFFSETFROM:+0200
TZOFFSETTO:+0100
TZNAME:CET
DTSTART:20251026T010000
END:STANDARD
END:VTIMEZONE
BEGIN:VEVENT
DTSTART;TZID=Europe/Paris:20240329T110000
DTEND;TZID=Europe/Paris:20240329T150000
DTSTAMP:20260423T044800
CREATED:20240309T135548Z
LAST-MODIFIED:20240328T172724Z
UID:3715-1711710000-1711724400@cms.joinusgruppentreffen.eu
SUMMARY:Karfreitag - Fisch essen in Uttenhofen (Pfaffenhofen)
DESCRIPTION:Ja ihr dürft und müsst über den Radweg fahren. \nFolgende Gerichte werden angeboten: \n\nSteckerlfisch 14\,10  €\nSalat mit Meeresfrüchten und Knoblauchbaguette 11\,30 €    \nWarm geräucherte Forellen mit Kartoffelsalat 13\,70 €  \nMatjes Hausfrauenart\, Salzkartoffeln 11\,40 €\nMatjes zu Omas Zeiten Natur Zwiebeln\, Öl Essig\, Kartoffeln 14\,10 €     \nKrabbencocktail mit Toast 11\,20 €\nKalte Fischplatte 14\,90 €\nFischsuppe mit Pernod 12\,70 €\nFischragout mit Nudeln   13\,30 €\nLachsnudeln\, Babytomaten 11\,80 €\nSeeteufel mit Hummersauce\, Reis\, Brokkoli 24\,70 €\nSeezunge geb. mit Salzkartoffeln und Salat 27\,80 €\nPanierter Fisch mit Kartoffelsalat\, Remouladensauce 9\,90 €\nbei Bedarf gibt’s auch andere Gerichte 🙂\n\nBitte eine ungefähre Abschätzung abgeben\, was ihr essen möchtet. \nGerne könnt ihr Familie und Freunde mitnehmen. \nBarrierefrei erreichbar. \nWir können auch gerne Fahrgemeinschaften gründen\, bitte kontaktiert mich hierzu. 🙂 \n 
URL:https://cms.joinusgruppentreffen.eu/event/karfreitag-fisch-essen-in-uttenhofen-pfaffenhofen/
LOCATION:Fischerhütte Uttenhofen\, Wiesengrund\, 85276\, Germany
ORGANIZER;CN="Bettina Bergmann":MAILTO:bettina@joinusgruppentreffen.eu
END:VEVENT
END:VCALENDAR