BEGIN:VCALENDAR
VERSION:2.0
PRODID:-//JoinUs Gruppentreffen - ECPv6.15.20//NONSGML v1.0//EN
CALSCALE:GREGORIAN
METHOD:PUBLISH
X-WR-CALNAME:JoinUs Gruppentreffen
X-ORIGINAL-URL:https://cms.joinusgruppentreffen.eu
X-WR-CALDESC:Veranstaltungen für JoinUs Gruppentreffen
REFRESH-INTERVAL;VALUE=DURATION:PT1H
X-Robots-Tag:noindex
X-PUBLISHED-TTL:PT1H
BEGIN:VTIMEZONE
TZID:Europe/Paris
BEGIN:DAYLIGHT
TZOFFSETFROM:+0100
TZOFFSETTO:+0200
TZNAME:CEST
DTSTART:20230326T010000
END:DAYLIGHT
BEGIN:STANDARD
TZOFFSETFROM:+0200
TZOFFSETTO:+0100
TZNAME:CET
DTSTART:20231029T010000
END:STANDARD
BEGIN:DAYLIGHT
TZOFFSETFROM:+0100
TZOFFSETTO:+0200
TZNAME:CEST
DTSTART:20240331T010000
END:DAYLIGHT
BEGIN:STANDARD
TZOFFSETFROM:+0200
TZOFFSETTO:+0100
TZNAME:CET
DTSTART:20241027T010000
END:STANDARD
BEGIN:DAYLIGHT
TZOFFSETFROM:+0100
TZOFFSETTO:+0200
TZNAME:CEST
DTSTART:20250330T010000
END:DAYLIGHT
BEGIN:STANDARD
TZOFFSETFROM:+0200
TZOFFSETTO:+0100
TZNAME:CET
DTSTART:20251026T010000
END:STANDARD
END:VTIMEZONE
BEGIN:VEVENT
DTSTART;TZID=Europe/Paris:20240505T100000
DTEND;TZID=Europe/Paris:20240505T140000
DTSTAMP:20260423T015957
CREATED:20240414T131231Z
LAST-MODIFIED:20240430T162440Z
UID:4457-1714903200-1714917600@cms.joinusgruppentreffen.eu
SUMMARY:Frühstück in Ingolstadt
DESCRIPTION: 
URL:https://cms.joinusgruppentreffen.eu/event/fruehstueck-in-ingolstadt-2/
LOCATION:Cafè Anna\, Theresienstr. 19\, Ingolstadt\, 85049
CATEGORIES:Kultur
ATTACH;FMTTYPE=image/jpeg:https://cms.joinusgruppentreffen.eu/wp-content/uploads/2024/04/WhatsApp-Bild-2024-04-14-um-15.23.04_532f5998.jpg
ORGANIZER;CN="Bettina Bergmann":MAILTO:bettina@joinusgruppentreffen.eu
END:VEVENT
BEGIN:VEVENT
DTSTART;TZID=Europe/Paris:20240505T140000
DTEND;TZID=Europe/Paris:20240505T170000
DTSTAMP:20260423T015957
CREATED:20240430T154425Z
LAST-MODIFIED:20240430T161242Z
UID:4763-1714917600-1714928400@cms.joinusgruppentreffen.eu
SUMMARY:Allershausener Kirschblütenfest
DESCRIPTION:
URL:https://cms.joinusgruppentreffen.eu/event/allershausener-kirschbluetenfest/
LOCATION:Glonnfeldpark\, Glonnfeldpark\, Allershausen\, 85391
CATEGORIES:Kultur
ATTACH;FMTTYPE=image/jpeg:https://cms.joinusgruppentreffen.eu/wp-content/uploads/2024/04/Kirschblueten-scaled.jpg
ORGANIZER;CN="Bettina Bergmann":MAILTO:bettina@joinusgruppentreffen.eu
END:VEVENT
END:VCALENDAR