BEGIN:VCALENDAR
VERSION:2.0
PRODID:-//JoinUs Gruppentreffen - ECPv6.15.20//NONSGML v1.0//EN
CALSCALE:GREGORIAN
METHOD:PUBLISH
X-WR-CALNAME:JoinUs Gruppentreffen
X-ORIGINAL-URL:https://cms.joinusgruppentreffen.eu
X-WR-CALDESC:Veranstaltungen für JoinUs Gruppentreffen
REFRESH-INTERVAL;VALUE=DURATION:PT1H
X-Robots-Tag:noindex
X-PUBLISHED-TTL:PT1H
BEGIN:VTIMEZONE
TZID:Europe/Paris
BEGIN:DAYLIGHT
TZOFFSETFROM:+0100
TZOFFSETTO:+0200
TZNAME:CEST
DTSTART:20230326T010000
END:DAYLIGHT
BEGIN:STANDARD
TZOFFSETFROM:+0200
TZOFFSETTO:+0100
TZNAME:CET
DTSTART:20231029T010000
END:STANDARD
BEGIN:DAYLIGHT
TZOFFSETFROM:+0100
TZOFFSETTO:+0200
TZNAME:CEST
DTSTART:20240331T010000
END:DAYLIGHT
BEGIN:STANDARD
TZOFFSETFROM:+0200
TZOFFSETTO:+0100
TZNAME:CET
DTSTART:20241027T010000
END:STANDARD
BEGIN:DAYLIGHT
TZOFFSETFROM:+0100
TZOFFSETTO:+0200
TZNAME:CEST
DTSTART:20250330T010000
END:DAYLIGHT
BEGIN:STANDARD
TZOFFSETFROM:+0200
TZOFFSETTO:+0100
TZNAME:CET
DTSTART:20251026T010000
END:STANDARD
END:VTIMEZONE
BEGIN:VEVENT
DTSTART;TZID=Europe/Paris:20240518T230000
DTEND;TZID=Europe/Paris:20240519T030000
DTSTAMP:20260423T015956
CREATED:20240516T152949Z
LAST-MODIFIED:20240516T185705Z
UID:5069-1716073200-1716087600@cms.joinusgruppentreffen.eu
SUMMARY:80er/90er Party in Pfaffenhofen
DESCRIPTION:Eintritt ca. 10€ pro Person
URL:https://cms.joinusgruppentreffen.eu/event/80er-90er-party-in-pfaffenhofen/
LOCATION:Heimatliebe\, Ledererstr. 11\, Pfaffenhofen\, 85276
CATEGORIES:Party's
ATTACH;FMTTYPE=image/jpeg:https://cms.joinusgruppentreffen.eu/wp-content/uploads/2024/04/Party-scaled.jpg
ORGANIZER;CN="Bettina Bergmann":MAILTO:bettina@joinusgruppentreffen.eu
END:VEVENT
BEGIN:VEVENT
DTSTART;TZID=Europe/Paris:20240519T140000
DTEND;TZID=Europe/Paris:20240519T170000
DTSTAMP:20260423T015956
CREATED:20240508T105007Z
LAST-MODIFIED:20240519T074706Z
UID:4880-1716127200-1716138000@cms.joinusgruppentreffen.eu
SUMMARY:Eis essen in Pfaffenhofen
DESCRIPTION:Gerne Familie\, Freunde und Kinder mitnehmen 🙂
URL:https://cms.joinusgruppentreffen.eu/event/minigolf-am-pfingstmontag-in-wolnzach/
LOCATION:Eiscafè da Claudio\, Hauptplatz 19\, Pfaffenhofen\, 85276
CATEGORIES:Sport
ATTACH;FMTTYPE=image/jpeg:https://cms.joinusgruppentreffen.eu/wp-content/uploads/2024/04/Eiscreme-scaled.jpg
ORGANIZER;CN="Bettina Bergmann":MAILTO:bettina@joinusgruppentreffen.eu
END:VEVENT
BEGIN:VEVENT
DTSTART;TZID=Europe/Paris:20240519T210000
DTEND;TZID=Europe/Paris:20240520T040000
DTSTAMP:20260423T015956
CREATED:20240516T094233Z
LAST-MODIFIED:20240516T094910Z
UID:5042-1716152400-1716177600@cms.joinusgruppentreffen.eu
SUMMARY:Singleparty in Ingolstadt
DESCRIPTION:Egal\, ob ihr auf der Suche seid oder nicht\, das wird bestimmt ein lustiger Abend! \nKarten im Vorverkauf 10€
URL:https://cms.joinusgruppentreffen.eu/event/singleparty-in-ingolstadt/
LOCATION:Eventhalle Ingolstadt\, Am Westpark 2\, Ingolstadt
CATEGORIES:Party's
ATTACH;FMTTYPE=image/jpeg:https://cms.joinusgruppentreffen.eu/wp-content/uploads/2024/05/Party-2-scaled.jpg
ORGANIZER;CN="Bettina Bergmann":MAILTO:bettina@joinusgruppentreffen.eu
END:VEVENT
END:VCALENDAR