BEGIN:VCALENDAR
VERSION:2.0
PRODID:-//JoinUs Gruppentreffen - ECPv6.15.20//NONSGML v1.0//EN
CALSCALE:GREGORIAN
METHOD:PUBLISH
X-WR-CALNAME:JoinUs Gruppentreffen
X-ORIGINAL-URL:https://cms.joinusgruppentreffen.eu
X-WR-CALDESC:Veranstaltungen für JoinUs Gruppentreffen
REFRESH-INTERVAL;VALUE=DURATION:PT1H
X-Robots-Tag:noindex
X-PUBLISHED-TTL:PT1H
BEGIN:VTIMEZONE
TZID:Europe/Paris
BEGIN:DAYLIGHT
TZOFFSETFROM:+0100
TZOFFSETTO:+0200
TZNAME:CEST
DTSTART:20230326T010000
END:DAYLIGHT
BEGIN:STANDARD
TZOFFSETFROM:+0200
TZOFFSETTO:+0100
TZNAME:CET
DTSTART:20231029T010000
END:STANDARD
BEGIN:DAYLIGHT
TZOFFSETFROM:+0100
TZOFFSETTO:+0200
TZNAME:CEST
DTSTART:20240331T010000
END:DAYLIGHT
BEGIN:STANDARD
TZOFFSETFROM:+0200
TZOFFSETTO:+0100
TZNAME:CET
DTSTART:20241027T010000
END:STANDARD
BEGIN:DAYLIGHT
TZOFFSETFROM:+0100
TZOFFSETTO:+0200
TZNAME:CEST
DTSTART:20250330T010000
END:DAYLIGHT
BEGIN:STANDARD
TZOFFSETFROM:+0200
TZOFFSETTO:+0100
TZNAME:CET
DTSTART:20251026T010000
END:STANDARD
END:VTIMEZONE
BEGIN:VEVENT
DTSTART;TZID=Europe/Paris:20240519T210000
DTEND;TZID=Europe/Paris:20240520T040000
DTSTAMP:20260423T015956
CREATED:20240516T094233Z
LAST-MODIFIED:20240516T094910Z
UID:5042-1716152400-1716177600@cms.joinusgruppentreffen.eu
SUMMARY:Singleparty in Ingolstadt
DESCRIPTION:Egal\, ob ihr auf der Suche seid oder nicht\, das wird bestimmt ein lustiger Abend! \nKarten im Vorverkauf 10€
URL:https://cms.joinusgruppentreffen.eu/event/singleparty-in-ingolstadt/
LOCATION:Eventhalle Ingolstadt\, Am Westpark 2\, Ingolstadt
CATEGORIES:Party's
ATTACH;FMTTYPE=image/jpeg:https://cms.joinusgruppentreffen.eu/wp-content/uploads/2024/05/Party-2-scaled.jpg
ORGANIZER;CN="Bettina Bergmann":MAILTO:bettina@joinusgruppentreffen.eu
END:VEVENT
BEGIN:VEVENT
DTSTART;TZID=Europe/Paris:20240520T140000
DTEND;TZID=Europe/Paris:20240520T170000
DTSTAMP:20260423T015956
CREATED:20240503T172711Z
LAST-MODIFIED:20240519T111147Z
UID:4821-1716213600-1716224400@cms.joinusgruppentreffen.eu
SUMMARY:Kreativwerkstatt in Pfaffenhofen mit Tobias am Pfingstmontag oder einfach nur zum Ratschen kommen (kostenlos)
DESCRIPTION:Kreative aufgepasst! 👨🏻‍🎨🎨\nIhr seid begeistert von der Malerei oder kreativen Gestaltung?\nLasst uns gemeinsam kreativ sein\, uns kennenlernen und austauschen! \nKosten pro Person für Materialien und Raum 20€ \nFür Getränke (Kaffee\, Wasser\, Spezi\,…) ist gesorgt
URL:https://cms.joinusgruppentreffen.eu/event/kreativwerkstatt-in-pfaffenhofen/
LOCATION:Evangelisches Gemeindezentrum\, Joseph-Maria-Lutz Str. 1\, Pfaffenhofen\, 85276
CATEGORIES:Kreatives
ATTACH;FMTTYPE=image/jpeg:https://cms.joinusgruppentreffen.eu/wp-content/uploads/2024/05/Kunst-scaled.jpg
END:VEVENT
BEGIN:VEVENT
DTSTART;TZID=Europe/Paris:20240520T180000
DTEND;TZID=Europe/Paris:20240520T200000
DTSTAMP:20260423T015956
CREATED:20240519T110758Z
LAST-MODIFIED:20240519T172458Z
UID:5137-1716228000-1716235200@cms.joinusgruppentreffen.eu
SUMMARY:Biergarten in Wolnzach
DESCRIPTION:
URL:https://cms.joinusgruppentreffen.eu/event/biergarten-in-wolnzach/
LOCATION:Grantlerwirt\, Ziegelstr. 4\, Wolnzach\, 85283\, Germany
CATEGORIES:Essen
ATTACH;FMTTYPE=image/jpeg:https://cms.joinusgruppentreffen.eu/wp-content/uploads/2024/05/Grantlerwirt.jpg
ORGANIZER;CN="Bettina Bergmann":MAILTO:bettina@joinusgruppentreffen.eu
END:VEVENT
END:VCALENDAR