BEGIN:VCALENDAR
VERSION:2.0
PRODID:-//JoinUs Gruppentreffen - ECPv6.15.20//NONSGML v1.0//EN
CALSCALE:GREGORIAN
METHOD:PUBLISH
X-WR-CALNAME:JoinUs Gruppentreffen
X-ORIGINAL-URL:https://cms.joinusgruppentreffen.eu
X-WR-CALDESC:Veranstaltungen für JoinUs Gruppentreffen
REFRESH-INTERVAL;VALUE=DURATION:PT1H
X-Robots-Tag:noindex
X-PUBLISHED-TTL:PT1H
BEGIN:VTIMEZONE
TZID:Europe/Paris
BEGIN:DAYLIGHT
TZOFFSETFROM:+0100
TZOFFSETTO:+0200
TZNAME:CEST
DTSTART:20230326T010000
END:DAYLIGHT
BEGIN:STANDARD
TZOFFSETFROM:+0200
TZOFFSETTO:+0100
TZNAME:CET
DTSTART:20231029T010000
END:STANDARD
BEGIN:DAYLIGHT
TZOFFSETFROM:+0100
TZOFFSETTO:+0200
TZNAME:CEST
DTSTART:20240331T010000
END:DAYLIGHT
BEGIN:STANDARD
TZOFFSETFROM:+0200
TZOFFSETTO:+0100
TZNAME:CET
DTSTART:20241027T010000
END:STANDARD
BEGIN:DAYLIGHT
TZOFFSETFROM:+0100
TZOFFSETTO:+0200
TZNAME:CEST
DTSTART:20250330T010000
END:DAYLIGHT
BEGIN:STANDARD
TZOFFSETFROM:+0200
TZOFFSETTO:+0100
TZNAME:CET
DTSTART:20251026T010000
END:STANDARD
END:VTIMEZONE
BEGIN:VEVENT
DTSTART;TZID=Europe/Paris:20240614T190000
DTEND;TZID=Europe/Paris:20240614T233000
DTSTAMP:20260423T003236
CREATED:20240423T094959Z
LAST-MODIFIED:20240611T172539Z
UID:4633-1718391600-1718407800@cms.joinusgruppentreffen.eu
SUMMARY:Public Viewing in Freising Eröffnungsspiel Deutschland - EM 2024
DESCRIPTION:Sei live dabei\, wenn die Fußball-Europameisterschaft beginnt und erlebe das Eröffnungsspiel in mitreißender Atmosphäre. Komm vorbei und feuere dein Team auf großer Leinwand an. Für kühle Getränke und leckere Snacks ist gesorgt\, damit du das Spiel in vollen Zügen genießen kannst. Ob Fußballfan oder einfach nur auf der Suche nach guter Stimmung – dieser Abend wird unvergesslich. Wir freuen uns auf dich und einen spannenden Fußballabend!
URL:https://cms.joinusgruppentreffen.eu/event/public-viewing-eroeffnungsspiel-deutschland-em-2024/
LOCATION:Furtnerbräu\, Ob. Hauptstraße 42\, Freising\, 85354
CATEGORIES:Essen,Party's
ATTACH;FMTTYPE=image/jpeg:https://cms.joinusgruppentreffen.eu/wp-content/uploads/2024/04/pexels-pixabay-46798-scaled.jpg
ORGANIZER;CN="Bettina Bergmann":MAILTO:bettina@joinusgruppentreffen.eu
END:VEVENT
END:VCALENDAR