BEGIN:VCALENDAR
VERSION:2.0
PRODID:-//JoinUs Gruppentreffen - ECPv6.15.20//NONSGML v1.0//EN
CALSCALE:GREGORIAN
METHOD:PUBLISH
X-ORIGINAL-URL:https://cms.joinusgruppentreffen.eu
X-WR-CALDESC:Veranstaltungen für JoinUs Gruppentreffen
REFRESH-INTERVAL;VALUE=DURATION:PT1H
X-Robots-Tag:noindex
X-PUBLISHED-TTL:PT1H
BEGIN:VTIMEZONE
TZID:Europe/Paris
BEGIN:DAYLIGHT
TZOFFSETFROM:+0100
TZOFFSETTO:+0200
TZNAME:CEST
DTSTART:20230326T010000
END:DAYLIGHT
BEGIN:STANDARD
TZOFFSETFROM:+0200
TZOFFSETTO:+0100
TZNAME:CET
DTSTART:20231029T010000
END:STANDARD
BEGIN:DAYLIGHT
TZOFFSETFROM:+0100
TZOFFSETTO:+0200
TZNAME:CEST
DTSTART:20240331T010000
END:DAYLIGHT
BEGIN:STANDARD
TZOFFSETFROM:+0200
TZOFFSETTO:+0100
TZNAME:CET
DTSTART:20241027T010000
END:STANDARD
BEGIN:DAYLIGHT
TZOFFSETFROM:+0100
TZOFFSETTO:+0200
TZNAME:CEST
DTSTART:20250330T010000
END:DAYLIGHT
BEGIN:STANDARD
TZOFFSETFROM:+0200
TZOFFSETTO:+0100
TZNAME:CET
DTSTART:20251026T010000
END:STANDARD
END:VTIMEZONE
BEGIN:VEVENT
DTSTART;TZID=Europe/Paris:20240615T120000
DTEND;TZID=Europe/Paris:20240615T170000
DTSTAMP:20260423T003644
CREATED:20240521T100916Z
LAST-MODIFIED:20240614T112225Z
UID:5167-1718452800-1718470800@cms.joinusgruppentreffen.eu
SUMMARY:Kreativwerkstatt mit Tobi in Pfaffenhofen
DESCRIPTION:Wir malen mit Acrylfarben auf Leinwänden 😀 \nKreative aufgepasst! 👨🏻‍🎨🎨\nIhr seid begeistert von der Malerei oder kreativen Gestaltung?\nLasst uns gemeinsam kreativ sein\, uns kennenlernen und austauschen! \nKosten pro Person für Materialien 20€ \nbitte im Vorfeld per PayPal an bettina.joinus@gmx.de überweisen \nFür Getränke (Kaffee\, Wasser\, Spezi\, Bier\,…) ist gesorgt \nEinfach kommen\, wann ihr wollt 😀 \n 
URL:https://cms.joinusgruppentreffen.eu/event/kreativwerkstatt-mit-tobi-in-pfaffenhofen/
LOCATION:AWO Vereinsheim\, Schrobenhausener Str. 10\, Pfaffenhofen\, 85276
CATEGORIES:Kreatives
ATTACH;FMTTYPE=image/jpeg:https://cms.joinusgruppentreffen.eu/wp-content/uploads/2024/05/Kreativwerkstatt.jpg
ORGANIZER;CN="Bettina Bergmann":MAILTO:bettina@joinusgruppentreffen.eu
END:VEVENT
BEGIN:VEVENT
DTSTART;TZID=Europe/Paris:20240615T190000
DTEND;TZID=Europe/Paris:20240615T233000
DTSTAMP:20260423T003644
CREATED:20240603T135541Z
LAST-MODIFIED:20240611T172758Z
UID:5477-1718478000-1718494200@cms.joinusgruppentreffen.eu
SUMMARY:Karaoke/Weinbar in Freising
DESCRIPTION:Verbringe einen unvergesslichen Abend voller Musik und Genuss. Singe deine Lieblingshits in entspannter Atmosphäre und genieße dazu eine Auswahl erlesener Weine. Ob als Solo-Künstler oder im Duett\, Anfänger oder Profi – jeder ist willkommen! Lass dich von der guten Stimmung mitreißen\, knüpfe neue Kontakte und erlebe unvergessliche Momente. Komm vorbei\, schnapp dir ein Glas Wein und mach die Bühne zu deiner eigenen. Wir freuen uns auf dich! \nKeine Verpflichtung zu singen 😀 \n 
URL:https://cms.joinusgruppentreffen.eu/event/karaoke-in-freising/
LOCATION:Oronero Weinbar\, Düwellstr. 18C\, Freising\, 85354
CATEGORIES:Essen
ATTACH;FMTTYPE=image/jpeg:https://cms.joinusgruppentreffen.eu/wp-content/uploads/2024/02/Karaoke-scaled.jpg
ORGANIZER;CN="Bettina Bergmann":MAILTO:bettina@joinusgruppentreffen.eu
END:VEVENT
END:VCALENDAR