BEGIN:VCALENDAR
VERSION:2.0
PRODID:-//JoinUs Gruppentreffen - ECPv6.15.20//NONSGML v1.0//EN
CALSCALE:GREGORIAN
METHOD:PUBLISH
X-WR-CALNAME:JoinUs Gruppentreffen
X-ORIGINAL-URL:https://cms.joinusgruppentreffen.eu
X-WR-CALDESC:Veranstaltungen für JoinUs Gruppentreffen
REFRESH-INTERVAL;VALUE=DURATION:PT1H
X-Robots-Tag:noindex
X-PUBLISHED-TTL:PT1H
BEGIN:VTIMEZONE
TZID:Europe/Paris
BEGIN:DAYLIGHT
TZOFFSETFROM:+0100
TZOFFSETTO:+0200
TZNAME:CEST
DTSTART:20230326T010000
END:DAYLIGHT
BEGIN:STANDARD
TZOFFSETFROM:+0200
TZOFFSETTO:+0100
TZNAME:CET
DTSTART:20231029T010000
END:STANDARD
BEGIN:DAYLIGHT
TZOFFSETFROM:+0100
TZOFFSETTO:+0200
TZNAME:CEST
DTSTART:20240331T010000
END:DAYLIGHT
BEGIN:STANDARD
TZOFFSETFROM:+0200
TZOFFSETTO:+0100
TZNAME:CET
DTSTART:20241027T010000
END:STANDARD
BEGIN:DAYLIGHT
TZOFFSETFROM:+0100
TZOFFSETTO:+0200
TZNAME:CEST
DTSTART:20250330T010000
END:DAYLIGHT
BEGIN:STANDARD
TZOFFSETFROM:+0200
TZOFFSETTO:+0100
TZNAME:CET
DTSTART:20251026T010000
END:STANDARD
END:VTIMEZONE
BEGIN:VEVENT
DTSTART;TZID=Europe/Paris:20240620T190000
DTEND;TZID=Europe/Paris:20240620T220000
DTSTAMP:20260423T004033
CREATED:20240616T135731Z
LAST-MODIFIED:20240620T031421Z
UID:5707-1718910000-1718920800@cms.joinusgruppentreffen.eu
SUMMARY:Stammtisch (Mexikaner) in Freising
DESCRIPTION:Triff dich mit uns zu einem geselligen Abend voller guter Gespräche\, leckerem Essen und erfrischenden Getränken. Ob alte Bekannte oder neue Gesichter\, alle sind herzlich willkommen. Genieße die mexikanische Küche und die entspannte Atmosphäre. Tausche dich in lockerer Runde aus\, knüpfe neue Kontakte und verbringe einen tollen Abend. Wir freuen uns auf dich und viele interessante Gespräche beim nächsten Stammtisch!
URL:https://cms.joinusgruppentreffen.eu/event/stammtisch-mexikaner-in-freising/
LOCATION:El Corazon\, Klebelstr. 2\, Freising\, 85356
CATEGORIES:Essen
ATTACH;FMTTYPE=image/jpeg:https://cms.joinusgruppentreffen.eu/wp-content/uploads/2024/05/Tacos-scaled.jpg
ORGANIZER;CN="Bettina Bergmann":MAILTO:bettina@joinusgruppentreffen.eu
END:VEVENT
END:VCALENDAR