BEGIN:VCALENDAR
VERSION:2.0
PRODID:-//JoinUs Gruppentreffen - ECPv6.15.20//NONSGML v1.0//EN
CALSCALE:GREGORIAN
METHOD:PUBLISH
X-WR-CALNAME:JoinUs Gruppentreffen
X-ORIGINAL-URL:https://cms.joinusgruppentreffen.eu
X-WR-CALDESC:Veranstaltungen für JoinUs Gruppentreffen
REFRESH-INTERVAL;VALUE=DURATION:PT1H
X-Robots-Tag:noindex
X-PUBLISHED-TTL:PT1H
BEGIN:VTIMEZONE
TZID:Europe/Paris
BEGIN:DAYLIGHT
TZOFFSETFROM:+0100
TZOFFSETTO:+0200
TZNAME:CEST
DTSTART:20230326T010000
END:DAYLIGHT
BEGIN:STANDARD
TZOFFSETFROM:+0200
TZOFFSETTO:+0100
TZNAME:CET
DTSTART:20231029T010000
END:STANDARD
BEGIN:DAYLIGHT
TZOFFSETFROM:+0100
TZOFFSETTO:+0200
TZNAME:CEST
DTSTART:20240331T010000
END:DAYLIGHT
BEGIN:STANDARD
TZOFFSETFROM:+0200
TZOFFSETTO:+0100
TZNAME:CET
DTSTART:20241027T010000
END:STANDARD
BEGIN:DAYLIGHT
TZOFFSETFROM:+0100
TZOFFSETTO:+0200
TZNAME:CEST
DTSTART:20250330T010000
END:DAYLIGHT
BEGIN:STANDARD
TZOFFSETFROM:+0200
TZOFFSETTO:+0100
TZNAME:CET
DTSTART:20251026T010000
END:STANDARD
END:VTIMEZONE
BEGIN:VEVENT
DTSTART;TZID=Europe/Paris:20240622T140000
DTEND;TZID=Europe/Paris:20240622T180000
DTSTAMP:20260423T003222
CREATED:20240612T135944Z
LAST-MODIFIED:20240622T111319Z
UID:5666-1719064800-1719079200@cms.joinusgruppentreffen.eu
SUMMARY:Kaffee und Kuchen in Pfaffenhofen
DESCRIPTION:Hier gibt’s den besten Kuchen im Umkreis 🙂\nGönn dir eine süße Auszeit und genieße die Auswahl an hausgemachten Kuchen und Torten. Ob fruchtig\, schokoladig oder klassisch – für jeden Geschmack ist etwas dabei. Verbringe einen gemütlichen Nachmittag in netter Gesellschaft\, tausche dich mit Freunden aus oder entspanne einfach bei einer Tasse Kaffee. Tina’s Café lädt zum Verweilen und Genießen ein. Komm vorbei und lass dich von ihren Köstlichkeiten verwöhnen. Wir freuen uns auf dich und deine Teilnahme!
URL:https://cms.joinusgruppentreffen.eu/event/biergarten-in-pfaffenhofen-3/
LOCATION:Tina’s Backträume\, Spitalstr. 1\, Pfaffenhofen\, 85276
CATEGORIES:Essen
ATTACH;FMTTYPE=image/jpeg:https://cms.joinusgruppentreffen.eu/wp-content/uploads/2024/05/20240531_105233-scaled.jpg
ORGANIZER;CN="Bettina Bergmann":MAILTO:bettina@joinusgruppentreffen.eu
END:VEVENT
END:VCALENDAR