BEGIN:VCALENDAR
VERSION:2.0
PRODID:-//JoinUs Gruppentreffen - ECPv6.15.20//NONSGML v1.0//EN
CALSCALE:GREGORIAN
METHOD:PUBLISH
X-ORIGINAL-URL:https://cms.joinusgruppentreffen.eu
X-WR-CALDESC:Veranstaltungen für JoinUs Gruppentreffen
REFRESH-INTERVAL;VALUE=DURATION:PT1H
X-Robots-Tag:noindex
X-PUBLISHED-TTL:PT1H
BEGIN:VTIMEZONE
TZID:Europe/Paris
BEGIN:DAYLIGHT
TZOFFSETFROM:+0100
TZOFFSETTO:+0200
TZNAME:CEST
DTSTART:20230326T010000
END:DAYLIGHT
BEGIN:STANDARD
TZOFFSETFROM:+0200
TZOFFSETTO:+0100
TZNAME:CET
DTSTART:20231029T010000
END:STANDARD
BEGIN:DAYLIGHT
TZOFFSETFROM:+0100
TZOFFSETTO:+0200
TZNAME:CEST
DTSTART:20240331T010000
END:DAYLIGHT
BEGIN:STANDARD
TZOFFSETFROM:+0200
TZOFFSETTO:+0100
TZNAME:CET
DTSTART:20241027T010000
END:STANDARD
BEGIN:DAYLIGHT
TZOFFSETFROM:+0100
TZOFFSETTO:+0200
TZNAME:CEST
DTSTART:20250330T010000
END:DAYLIGHT
BEGIN:STANDARD
TZOFFSETFROM:+0200
TZOFFSETTO:+0100
TZNAME:CET
DTSTART:20251026T010000
END:STANDARD
END:VTIMEZONE
BEGIN:VEVENT
DTSTART;TZID=Europe/Paris:20240623T093000
DTEND;TZID=Europe/Paris:20240623T140000
DTSTAMP:20260423T003516
CREATED:20240503T171156Z
LAST-MODIFIED:20240611T174203Z
UID:4808-1719135000-1719151200@cms.joinusgruppentreffen.eu
SUMMARY:Frühstück beim Mion's in Sünzhausen (Schweitenkirchen)
DESCRIPTION:Starte deinen Tag mit einem leckeren und geselligen Frühstück. Genieße eine große Auswahl an frischen Brötchen\, Croissants\, Aufschnitt\, Käse\, Obst\, Müsli und vielem mehr in gemütlicher Atmosphäre. Ob allein\, mit Freunden oder der Familie – bei uns ist jeder willkommen. Lass dich verwöhnen und starte entspannt in den Tag. Komm vorbei und erlebe einen genussvollen Morgen. Wir freuen uns auf dich und dein Lächeln beim Frühstück!
URL:https://cms.joinusgruppentreffen.eu/event/fruehstueck-beim-mions-in-suenzhausen-schweitenkirchen/
LOCATION:Mion’s Café\, Ob. Dorfstr. 12\, Schweitenkirchen\, 85301\, Germany
CATEGORIES:Essen
ATTACH;FMTTYPE=image/jpeg:https://cms.joinusgruppentreffen.eu/wp-content/uploads/2024/04/Fruehstueck-2-scaled.jpg
ORGANIZER;CN="Bettina Bergmann":MAILTO:bettina@joinusgruppentreffen.eu
END:VEVENT
END:VCALENDAR