BEGIN:VCALENDAR
VERSION:2.0
PRODID:-//JoinUs Gruppentreffen - ECPv6.15.20//NONSGML v1.0//EN
CALSCALE:GREGORIAN
METHOD:PUBLISH
X-WR-CALNAME:JoinUs Gruppentreffen
X-ORIGINAL-URL:https://cms.joinusgruppentreffen.eu
X-WR-CALDESC:Veranstaltungen für JoinUs Gruppentreffen
REFRESH-INTERVAL;VALUE=DURATION:PT1H
X-Robots-Tag:noindex
X-PUBLISHED-TTL:PT1H
BEGIN:VTIMEZONE
TZID:Europe/Paris
BEGIN:DAYLIGHT
TZOFFSETFROM:+0100
TZOFFSETTO:+0200
TZNAME:CEST
DTSTART:20230326T010000
END:DAYLIGHT
BEGIN:STANDARD
TZOFFSETFROM:+0200
TZOFFSETTO:+0100
TZNAME:CET
DTSTART:20231029T010000
END:STANDARD
BEGIN:DAYLIGHT
TZOFFSETFROM:+0100
TZOFFSETTO:+0200
TZNAME:CEST
DTSTART:20240331T010000
END:DAYLIGHT
BEGIN:STANDARD
TZOFFSETFROM:+0200
TZOFFSETTO:+0100
TZNAME:CET
DTSTART:20241027T010000
END:STANDARD
BEGIN:DAYLIGHT
TZOFFSETFROM:+0100
TZOFFSETTO:+0200
TZNAME:CEST
DTSTART:20250330T010000
END:DAYLIGHT
BEGIN:STANDARD
TZOFFSETFROM:+0200
TZOFFSETTO:+0100
TZNAME:CET
DTSTART:20251026T010000
END:STANDARD
END:VTIMEZONE
BEGIN:VEVENT
DTSTART;TZID=Europe/Paris:20240630T100000
DTEND;TZID=Europe/Paris:20240630T140000
DTSTAMP:20260423T003228
CREATED:20240521T111234Z
LAST-MODIFIED:20240624T104628Z
UID:5185-1719741600-1719756000@cms.joinusgruppentreffen.eu
SUMMARY:Frühstück in Ingolstadt
DESCRIPTION:Starte deinen Tag mit einem köstlichen Frühstück in gemütlicher Atmosphäre. Genieße frische Brötchen\, Croissants\, Aufschnitt\, Käse\, frisches Obst und vieles mehr. Egal ob allein\, mit Freunden oder Familie – hier bist du herzlich willkommen. Entspanne dich und genieße den Morgen bei einer Tasse Kaffee oder Tee. Starte gestärkt in den Tag oder gönn dir einfach eine kleine Auszeit. Wir freuen uns darauf\, dich bei uns begrüßen zu dürfen!
URL:https://cms.joinusgruppentreffen.eu/event/fruehstueck-in-ingolstadt-3/
LOCATION:Sipl Ingolstadt Rathausplatz\, Rathausplatz 4\, Ingolstadt\, 85049
CATEGORIES:Essen
ATTACH;FMTTYPE=image/jpeg:https://cms.joinusgruppentreffen.eu/wp-content/uploads/2024/04/Parkcafe.jpg
ORGANIZER;CN="Bettina Bergmann":MAILTO:bettina@joinusgruppentreffen.eu
END:VEVENT
END:VCALENDAR