BEGIN:VCALENDAR
VERSION:2.0
PRODID:-//JoinUs Gruppentreffen - ECPv6.15.20//NONSGML v1.0//EN
CALSCALE:GREGORIAN
METHOD:PUBLISH
X-WR-CALNAME:JoinUs Gruppentreffen
X-ORIGINAL-URL:https://cms.joinusgruppentreffen.eu
X-WR-CALDESC:Veranstaltungen für JoinUs Gruppentreffen
REFRESH-INTERVAL;VALUE=DURATION:PT1H
X-Robots-Tag:noindex
X-PUBLISHED-TTL:PT1H
BEGIN:VTIMEZONE
TZID:Europe/Paris
BEGIN:DAYLIGHT
TZOFFSETFROM:+0100
TZOFFSETTO:+0200
TZNAME:CEST
DTSTART:20230326T010000
END:DAYLIGHT
BEGIN:STANDARD
TZOFFSETFROM:+0200
TZOFFSETTO:+0100
TZNAME:CET
DTSTART:20231029T010000
END:STANDARD
BEGIN:DAYLIGHT
TZOFFSETFROM:+0100
TZOFFSETTO:+0200
TZNAME:CEST
DTSTART:20240331T010000
END:DAYLIGHT
BEGIN:STANDARD
TZOFFSETFROM:+0200
TZOFFSETTO:+0100
TZNAME:CET
DTSTART:20241027T010000
END:STANDARD
BEGIN:DAYLIGHT
TZOFFSETFROM:+0100
TZOFFSETTO:+0200
TZNAME:CEST
DTSTART:20250330T010000
END:DAYLIGHT
BEGIN:STANDARD
TZOFFSETFROM:+0200
TZOFFSETTO:+0100
TZNAME:CET
DTSTART:20251026T010000
END:STANDARD
END:VTIMEZONE
BEGIN:VEVENT
DTSTART;TZID=Europe/Paris:20240727T110000
DTEND;TZID=Europe/Paris:20240727T180000
DTSTAMP:20260423T003227
CREATED:20240726T093112Z
LAST-MODIFIED:20240726T093515Z
UID:6257-1722078000-1722103200@cms.joinusgruppentreffen.eu
SUMMARY:Sommerfest des Bürgerhauses Pfaffenhofen
DESCRIPTION:Hallo ihr Lieben wir laden euch alle herzlich ein zu unsren Sommerfest Tag der Offenen Tür ab 11 Uhr und um 15 Uhr ist auch für groß und klein etwas geboten. Der Clown  Picolino  mit Musik  und Karaoke sowie Tanz und Überraschung im Koffer..Mir freuen uns auf euren Besuch  \nAnmeldung nicht zwingend nötig
URL:https://cms.joinusgruppentreffen.eu/event/sommerfest-des-buergerhauses-pfaffenhofen/
LOCATION:Bürgerhaus Pfaffenhofen\, Rot-Kreuz-Str. 2\, Pfaffenhofen\, 85276\, Deutschland
CATEGORIES:Kultur
ATTACH;FMTTYPE=image/jpeg:https://cms.joinusgruppentreffen.eu/wp-content/uploads/2024/07/Buergerhaus.jpeg
END:VEVENT
END:VCALENDAR