BEGIN:VCALENDAR
VERSION:2.0
PRODID:-//JoinUs Gruppentreffen - ECPv6.15.20//NONSGML v1.0//EN
CALSCALE:GREGORIAN
METHOD:PUBLISH
X-WR-CALNAME:JoinUs Gruppentreffen
X-ORIGINAL-URL:https://cms.joinusgruppentreffen.eu
X-WR-CALDESC:Veranstaltungen für JoinUs Gruppentreffen
REFRESH-INTERVAL;VALUE=DURATION:PT1H
X-Robots-Tag:noindex
X-PUBLISHED-TTL:PT1H
BEGIN:VTIMEZONE
TZID:Europe/Paris
BEGIN:DAYLIGHT
TZOFFSETFROM:+0100
TZOFFSETTO:+0200
TZNAME:CEST
DTSTART:20230326T010000
END:DAYLIGHT
BEGIN:STANDARD
TZOFFSETFROM:+0200
TZOFFSETTO:+0100
TZNAME:CET
DTSTART:20231029T010000
END:STANDARD
BEGIN:DAYLIGHT
TZOFFSETFROM:+0100
TZOFFSETTO:+0200
TZNAME:CEST
DTSTART:20240331T010000
END:DAYLIGHT
BEGIN:STANDARD
TZOFFSETFROM:+0200
TZOFFSETTO:+0100
TZNAME:CET
DTSTART:20241027T010000
END:STANDARD
BEGIN:DAYLIGHT
TZOFFSETFROM:+0100
TZOFFSETTO:+0200
TZNAME:CEST
DTSTART:20250330T010000
END:DAYLIGHT
BEGIN:STANDARD
TZOFFSETFROM:+0200
TZOFFSETTO:+0100
TZNAME:CET
DTSTART:20251026T010000
END:STANDARD
END:VTIMEZONE
BEGIN:VEVENT
DTSTART;TZID=Europe/Paris:20240831T110000
DTEND;TZID=Europe/Paris:20240831T143000
DTSTAMP:20260422T202727
CREATED:20240825T095344Z
LAST-MODIFIED:20240827T150829Z
UID:6650-1725102000-1725114600@cms.joinusgruppentreffen.eu
SUMMARY:Treffen beim Café Übrig in Freising
DESCRIPTION:Das Café Übrig ist das erste foodsharing-Café in Bayern. Gemeinsam treten wir der Wegwerfgesellschaft entgegen. Denn für Lebensmittelverschwendung haben wir nix übrig! Unser Konzept: Gerettete Lebensmittel gibt’s kostenlos im integrierten Fairteiler\, den Preis für Dein Getränk an der bar wählst Du. Mit Aktionen und Kultur machen wir das Thema Verschwendung sichtbar. Gemeinnützig\, nachhaltig\, wertschätzend.
URL:https://cms.joinusgruppentreffen.eu/event/treffen-beim-cafe-uebrig-in-freising/
LOCATION:Café Übrig\, General-von-Nagel-Straße 9\, Freising\, 85354
CATEGORIES:Essen,Kultur
ATTACH;FMTTYPE=image/jpeg:https://cms.joinusgruppentreffen.eu/wp-content/uploads/2024/08/Cafe-Uebrig.jpg
ORGANIZER;CN="Bettina Bergmann":MAILTO:bettina@joinusgruppentreffen.eu
END:VEVENT
BEGIN:VEVENT
DTSTART;TZID=Europe/Paris:20240831T150000
DTEND;TZID=Europe/Paris:20240831T170000
DTSTAMP:20260422T202727
CREATED:20240814T101239Z
LAST-MODIFIED:20240829T140632Z
UID:6469-1725116400-1725123600@cms.joinusgruppentreffen.eu
SUMMARY:Altstadtführung in Freising
DESCRIPTION:Ein Stadtführer der Touristeninformation Freising führt uns durch die Innenstadt. \n  \nTreffpunkt am Marienplatz \n  \nMindestteilnehmeranzahl 6 Personen \n  \nKosten pro Person 15€ (bitte im Vorfeld per Paypal an bettina.joinus@gmx.de überweisen)
URL:https://cms.joinusgruppentreffen.eu/event/altstadtfuehrung-in-freising/
LOCATION:Freising Marienplatz\, 85354
ATTACH;FMTTYPE=image/jpeg:https://cms.joinusgruppentreffen.eu/wp-content/uploads/2024/08/Stadtspaziergang.jpg
END:VEVENT
BEGIN:VEVENT
DTSTART;TZID=Europe/Paris:20240831T170000
DTEND;TZID=Europe/Paris:20240831T210000
DTSTAMP:20260422T202727
CREATED:20240820T125212Z
LAST-MODIFIED:20240829T075529Z
UID:6573-1725123600-1725138000@cms.joinusgruppentreffen.eu
SUMMARY:Freising in Europa - Freisings Städtepartnerschaften besuchen Freising
DESCRIPTION:Mit Platzkonzert und Weinausschank
URL:https://cms.joinusgruppentreffen.eu/event/freising-in-europa-freisings-staedtepartnerschaften-besuchen-freising/
LOCATION:Freising Marienplatz\, 85354
CATEGORIES:Kultur
ATTACH;FMTTYPE=image/jpeg:https://cms.joinusgruppentreffen.eu/wp-content/uploads/2024/08/Altstadt-Fest.jpg
ORGANIZER;CN="Bettina Bergmann":MAILTO:bettina@joinusgruppentreffen.eu
END:VEVENT
END:VCALENDAR