BEGIN:VCALENDAR
VERSION:2.0
PRODID:-//JoinUs Gruppentreffen - ECPv6.15.20//NONSGML v1.0//EN
CALSCALE:GREGORIAN
METHOD:PUBLISH
X-WR-CALNAME:JoinUs Gruppentreffen
X-ORIGINAL-URL:https://cms.joinusgruppentreffen.eu
X-WR-CALDESC:Veranstaltungen für JoinUs Gruppentreffen
REFRESH-INTERVAL;VALUE=DURATION:PT1H
X-Robots-Tag:noindex
X-PUBLISHED-TTL:PT1H
BEGIN:VTIMEZONE
TZID:Europe/Paris
BEGIN:DAYLIGHT
TZOFFSETFROM:+0100
TZOFFSETTO:+0200
TZNAME:CEST
DTSTART:20230326T010000
END:DAYLIGHT
BEGIN:STANDARD
TZOFFSETFROM:+0200
TZOFFSETTO:+0100
TZNAME:CET
DTSTART:20231029T010000
END:STANDARD
BEGIN:DAYLIGHT
TZOFFSETFROM:+0100
TZOFFSETTO:+0200
TZNAME:CEST
DTSTART:20240331T010000
END:DAYLIGHT
BEGIN:STANDARD
TZOFFSETFROM:+0200
TZOFFSETTO:+0100
TZNAME:CET
DTSTART:20241027T010000
END:STANDARD
BEGIN:DAYLIGHT
TZOFFSETFROM:+0100
TZOFFSETTO:+0200
TZNAME:CEST
DTSTART:20250330T010000
END:DAYLIGHT
BEGIN:STANDARD
TZOFFSETFROM:+0200
TZOFFSETTO:+0100
TZNAME:CET
DTSTART:20251026T010000
END:STANDARD
END:VTIMEZONE
BEGIN:VEVENT
DTSTART;TZID=Europe/Paris:20241001T180000
DTEND;TZID=Europe/Paris:20241001T220000
DTSTAMP:20260422T191251
CREATED:20240902T090813Z
LAST-MODIFIED:20240906T115436Z
UID:6767-1727805600-1727820000@cms.joinusgruppentreffen.eu
SUMMARY:Pubquiz Englisch in Pfaffenhofen
DESCRIPTION:Kosten pro Person: 10€ (bitte im Voraus per Paypal an bettina.joinus@gmx.de überweisen) \nWarum solltest du mit uns mitgehen? Ich kümmere mich um die Bestellung der Tickets sowie um die Reservierung des Tisches 🙂 \nAnmeldung bitte bis 20.9 \nFor all the english speakers and them who want to be 🙂 \nZur Veranstaltung: Pubquiz – Englisch – Raus aus dem Klassenzimmer\, rein in den Pub! – VHS Pfaffenhofen (landkreis-pfaffenhofen.de)
URL:https://cms.joinusgruppentreffen.eu/event/pubquiz-englisch-in-pfaffenhofen/
LOCATION:Paf’s\, Scheyerer Str. 36\, Pfaffenhofen\, 85276
CATEGORIES:Essen
ATTACH;FMTTYPE=image/jpeg:https://cms.joinusgruppentreffen.eu/wp-content/uploads/2024/09/Pubquiz.jpg
ORGANIZER;CN="Bettina Bergmann":MAILTO:bettina@joinusgruppentreffen.eu
END:VEVENT
END:VCALENDAR