BEGIN:VCALENDAR
VERSION:2.0
PRODID:-//JoinUs Gruppentreffen - ECPv6.15.20//NONSGML v1.0//EN
CALSCALE:GREGORIAN
METHOD:PUBLISH
X-ORIGINAL-URL:https://cms.joinusgruppentreffen.eu
X-WR-CALDESC:Veranstaltungen für JoinUs Gruppentreffen
REFRESH-INTERVAL;VALUE=DURATION:PT1H
X-Robots-Tag:noindex
X-PUBLISHED-TTL:PT1H
BEGIN:VTIMEZONE
TZID:Europe/Paris
BEGIN:DAYLIGHT
TZOFFSETFROM:+0100
TZOFFSETTO:+0200
TZNAME:CEST
DTSTART:20230326T010000
END:DAYLIGHT
BEGIN:STANDARD
TZOFFSETFROM:+0200
TZOFFSETTO:+0100
TZNAME:CET
DTSTART:20231029T010000
END:STANDARD
BEGIN:DAYLIGHT
TZOFFSETFROM:+0100
TZOFFSETTO:+0200
TZNAME:CEST
DTSTART:20240331T010000
END:DAYLIGHT
BEGIN:STANDARD
TZOFFSETFROM:+0200
TZOFFSETTO:+0100
TZNAME:CET
DTSTART:20241027T010000
END:STANDARD
BEGIN:DAYLIGHT
TZOFFSETFROM:+0100
TZOFFSETTO:+0200
TZNAME:CEST
DTSTART:20250330T010000
END:DAYLIGHT
BEGIN:STANDARD
TZOFFSETFROM:+0200
TZOFFSETTO:+0100
TZNAME:CET
DTSTART:20251026T010000
END:STANDARD
END:VTIMEZONE
BEGIN:VEVENT
DTSTART;TZID=Europe/Paris:20241005T080000
DTEND;TZID=Europe/Paris:20241005T130000
DTSTAMP:20260422T191610
CREATED:20240925T123322Z
LAST-MODIFIED:20241003T163015Z
UID:7038-1728115200-1728133200@cms.joinusgruppentreffen.eu
SUMMARY:Markttage in Allershausen
DESCRIPTION:JoinUs ist auch mit einem Stand vor Ort 🙂 \nWenn ihr euch unverbindlich informieren wollt\, gerne vorbeischauen! \nIch freue mich über jeden\, der vorbeikommt 🙂 \nLG Bettina
URL:https://cms.joinusgruppentreffen.eu/event/markttage-in-allershausen/
LOCATION:Markttage Allershausen\, Klienberger Str.\, Allerhausen\, 85391\, Deutschland
CATEGORIES:Essen,Kultur
ATTACH;FMTTYPE=image/jpeg:https://cms.joinusgruppentreffen.eu/wp-content/uploads/2024/09/Markttage-Allershausen-1.jpg
ORGANIZER;CN="Bettina Bergmann":MAILTO:bettina@joinusgruppentreffen.eu
END:VEVENT
BEGIN:VEVENT
DTSTART;TZID=Europe/Paris:20241005T180000
DTEND;TZID=Europe/Paris:20241005T233000
DTSTAMP:20260422T191610
CREATED:20240802T094352Z
LAST-MODIFIED:20240914T114812Z
UID:6309-1728151200-1728171000@cms.joinusgruppentreffen.eu
SUMMARY:Karaoke in Pfaffenhofen
DESCRIPTION:Deine Vorteile an der Teilnahme: \nBester Tisch mit Blick zur Bühne ist für uns reserviert \nFühle dich sicher in unserer Gruppe \nKeiner ist zum singen verpflichtet. \nAnmeldung bitte bis 25.9
URL:https://cms.joinusgruppentreffen.eu/event/karaoke-in-pfaffenhofen/
LOCATION:Paf’s\, Scheyerer Str. 36\, Pfaffenhofen\, 85276
ATTACH;FMTTYPE=image/jpeg:https://cms.joinusgruppentreffen.eu/wp-content/uploads/2024/02/Karaoke-scaled.jpg
ORGANIZER;CN="Bettina Bergmann":MAILTO:bettina@joinusgruppentreffen.eu
END:VEVENT
END:VCALENDAR