BEGIN:VCALENDAR
VERSION:2.0
PRODID:-//JoinUs Gruppentreffen - ECPv6.15.20//NONSGML v1.0//EN
CALSCALE:GREGORIAN
METHOD:PUBLISH
X-WR-CALNAME:JoinUs Gruppentreffen
X-ORIGINAL-URL:https://cms.joinusgruppentreffen.eu
X-WR-CALDESC:Veranstaltungen für JoinUs Gruppentreffen
REFRESH-INTERVAL;VALUE=DURATION:PT1H
X-Robots-Tag:noindex
X-PUBLISHED-TTL:PT1H
BEGIN:VTIMEZONE
TZID:Europe/Paris
BEGIN:DAYLIGHT
TZOFFSETFROM:+0100
TZOFFSETTO:+0200
TZNAME:CEST
DTSTART:20230326T010000
END:DAYLIGHT
BEGIN:STANDARD
TZOFFSETFROM:+0200
TZOFFSETTO:+0100
TZNAME:CET
DTSTART:20231029T010000
END:STANDARD
BEGIN:DAYLIGHT
TZOFFSETFROM:+0100
TZOFFSETTO:+0200
TZNAME:CEST
DTSTART:20240331T010000
END:DAYLIGHT
BEGIN:STANDARD
TZOFFSETFROM:+0200
TZOFFSETTO:+0100
TZNAME:CET
DTSTART:20241027T010000
END:STANDARD
BEGIN:DAYLIGHT
TZOFFSETFROM:+0100
TZOFFSETTO:+0200
TZNAME:CEST
DTSTART:20250330T010000
END:DAYLIGHT
BEGIN:STANDARD
TZOFFSETFROM:+0200
TZOFFSETTO:+0100
TZNAME:CET
DTSTART:20251026T010000
END:STANDARD
END:VTIMEZONE
BEGIN:VEVENT
DTSTART;TZID=Europe/Paris:20241010T180000
DTEND;TZID=Europe/Paris:20241010T220000
DTSTAMP:20260422T191249
CREATED:20240626T091746Z
LAST-MODIFIED:20241008T181634Z
UID:5926-1728583200-1728597600@cms.joinusgruppentreffen.eu
SUMMARY:"Hobbybörse" in Pfaffenhofen
DESCRIPTION:Zum vhs Kurs https://vhs.landkreis-pfaffenhofen.de/p/gesellschaft/psychologie/joinus-treffen-unter-noch-nicht-freunden-680-C-242A1307 \nNeuauflage des erfolgreichen Kurses aus den letzten Semester mit dem Motto “Hobbybörse”.\nWir laden euch herzlich ein zu einem unterhaltsamen Abend\, an dem wir zusammenkommen\, um gemeinsame Interessen zu finden und Spaß zu haben.\nZiel ist es\, andere Menschen kennenzulernen\, sich auf etwas Neues einzulassen und und möglicherweise Gleichgesinnte zu finden\, mit denen man ein Hobby oder Interesse teilen kann und sich gerne wieder trifft. Auch können hier Anregungen für Freizeitbeschäftigungen und Hobbys gefunden werden.\nWir freuen uns auf euch!\nDiese Veranstaltung wird in Kooperation mit JoinUs Gruppentreffen angeboten. Auf der eigens dafür gestalteten Website kann jeder an einer Vielzahl von verschiedenen Treffen teilnehmen\, um so neue Bekanntschaften oder sogar Freunde zu finden. Vom Wandern bis zum Biergarten ist hier für jeden was dabei\, einfach für ein Treffen anmelden\, kommen und Spaß haben.\nWeitere Angebote von JoinUs Gruppentreffen finden sich hier: https://cms.joinusgruppentreffen.eu/\nJoinUs finanziert sich komplett spendenbasiert. Freiwillige Spenden sind auf der oben genannten Website und während des Kurses möglich. \nFür eine bessere Planung\, wird um Anmeldung gebeten. \nBarrierefreier Zugang
URL:https://cms.joinusgruppentreffen.eu/event/hobbyboerse-in-pfaffenhofen/
LOCATION:Kreisbücherei Pfaffenhofen\, Scheyerer Str. 51\, Pfaffenhofen\, 85276\, Germany
CATEGORIES:Kultur
ATTACH;FMTTYPE=image/jpeg:https://cms.joinusgruppentreffen.eu/wp-content/uploads/2024/06/Kreisbuecherei.jpg
END:VEVENT
END:VCALENDAR