BEGIN:VCALENDAR
VERSION:2.0
PRODID:-//JoinUs Gruppentreffen - ECPv6.15.20//NONSGML v1.0//EN
CALSCALE:GREGORIAN
METHOD:PUBLISH
X-ORIGINAL-URL:https://cms.joinusgruppentreffen.eu
X-WR-CALDESC:Veranstaltungen für JoinUs Gruppentreffen
REFRESH-INTERVAL;VALUE=DURATION:PT1H
X-Robots-Tag:noindex
X-PUBLISHED-TTL:PT1H
BEGIN:VTIMEZONE
TZID:Europe/Paris
BEGIN:DAYLIGHT
TZOFFSETFROM:+0100
TZOFFSETTO:+0200
TZNAME:CEST
DTSTART:20230326T010000
END:DAYLIGHT
BEGIN:STANDARD
TZOFFSETFROM:+0200
TZOFFSETTO:+0100
TZNAME:CET
DTSTART:20231029T010000
END:STANDARD
BEGIN:DAYLIGHT
TZOFFSETFROM:+0100
TZOFFSETTO:+0200
TZNAME:CEST
DTSTART:20240331T010000
END:DAYLIGHT
BEGIN:STANDARD
TZOFFSETFROM:+0200
TZOFFSETTO:+0100
TZNAME:CET
DTSTART:20241027T010000
END:STANDARD
BEGIN:DAYLIGHT
TZOFFSETFROM:+0100
TZOFFSETTO:+0200
TZNAME:CEST
DTSTART:20250330T010000
END:DAYLIGHT
BEGIN:STANDARD
TZOFFSETFROM:+0200
TZOFFSETTO:+0100
TZNAME:CET
DTSTART:20251026T010000
END:STANDARD
END:VTIMEZONE
BEGIN:VEVENT
DTSTART;TZID=Europe/Paris:20241123T190000
DTEND;TZID=Europe/Paris:20241123T203000
DTSTAMP:20260422T180611
CREATED:20241118T150837Z
LAST-MODIFIED:20241123T152827Z
UID:7475-1732388400-1732393800@cms.joinusgruppentreffen.eu
SUMMARY:Kurbi in Schernbuch
DESCRIPTION:Joinus Gruppentreffen sind genau so\, wie sie von Bettina auf der Website beschrieben sind:\nEine unkomplizierte und nicht-kommerzielle Möglichkeit für jeden\, nette Leute bei gemeinsamen Unternehmungen kennenzulernen.\nKurz mit einer E-Mail Adresse registrieren und dann bei den Veranstaltungen anmelden\, wozu man Lust hat (damit Bettina planen kann).\nKeine versteckten Kosten\, keine verrückten Leute\, kein Zwang. Einfacher geht’s nicht… (Andreas\, 53 aus Freising)
URL:https://cms.joinusgruppentreffen.eu/event/essbar-in-freising-2/
LOCATION:Kurbi’s Pilsstubn\, Dorfstr. 18\, Paunzhausen\, 85307
CATEGORIES:Essen
ATTACH;FMTTYPE=image/jpeg:https://cms.joinusgruppentreffen.eu/wp-content/uploads/2024/09/Kurbi.jpg
ORGANIZER;CN="Bettina Bergmann":MAILTO:bettina@joinusgruppentreffen.eu
END:VEVENT
END:VCALENDAR