BEGIN:VCALENDAR
VERSION:2.0
PRODID:-//JoinUs Gruppentreffen - ECPv6.15.20//NONSGML v1.0//EN
CALSCALE:GREGORIAN
METHOD:PUBLISH
X-WR-CALNAME:JoinUs Gruppentreffen
X-ORIGINAL-URL:https://cms.joinusgruppentreffen.eu
X-WR-CALDESC:Veranstaltungen für JoinUs Gruppentreffen
REFRESH-INTERVAL;VALUE=DURATION:PT1H
X-Robots-Tag:noindex
X-PUBLISHED-TTL:PT1H
BEGIN:VTIMEZONE
TZID:Europe/Paris
BEGIN:DAYLIGHT
TZOFFSETFROM:+0100
TZOFFSETTO:+0200
TZNAME:CEST
DTSTART:20230326T010000
END:DAYLIGHT
BEGIN:STANDARD
TZOFFSETFROM:+0200
TZOFFSETTO:+0100
TZNAME:CET
DTSTART:20231029T010000
END:STANDARD
BEGIN:DAYLIGHT
TZOFFSETFROM:+0100
TZOFFSETTO:+0200
TZNAME:CEST
DTSTART:20240331T010000
END:DAYLIGHT
BEGIN:STANDARD
TZOFFSETFROM:+0200
TZOFFSETTO:+0100
TZNAME:CET
DTSTART:20241027T010000
END:STANDARD
BEGIN:DAYLIGHT
TZOFFSETFROM:+0100
TZOFFSETTO:+0200
TZNAME:CEST
DTSTART:20250330T010000
END:DAYLIGHT
BEGIN:STANDARD
TZOFFSETFROM:+0200
TZOFFSETTO:+0100
TZNAME:CET
DTSTART:20251026T010000
END:STANDARD
END:VTIMEZONE
BEGIN:VEVENT
DTSTART;TZID=Europe/Paris:20241201T170000
DTEND;TZID=Europe/Paris:20241201T200000
DTSTAMP:20260422T164000
CREATED:20241103T081643Z
LAST-MODIFIED:20241114T160000Z
UID:7358-1733072400-1733083200@cms.joinusgruppentreffen.eu
SUMMARY:Weihnachtsmarkt in Pfaffenhofen
DESCRIPTION:Treffpunkt beim Rathaus
URL:https://cms.joinusgruppentreffen.eu/event/weihnachtsmarkt-in-pfaffenhofen/
LOCATION:Hauptplatz Pfaffenhofen\, Hauptplatz\, Pfaffenhofen\, 85276
CATEGORIES:Essen,Kreatives,Kultur
ATTACH;FMTTYPE=image/jpeg:https://cms.joinusgruppentreffen.eu/wp-content/uploads/2024/11/Weihnachtsmarkt.jpg
ORGANIZER;CN="Bettina Bergmann":MAILTO:bettina@joinusgruppentreffen.eu
END:VEVENT
END:VCALENDAR