BEGIN:VCALENDAR
VERSION:2.0
PRODID:-//JoinUs Gruppentreffen - ECPv6.15.20//NONSGML v1.0//EN
CALSCALE:GREGORIAN
METHOD:PUBLISH
X-WR-CALNAME:JoinUs Gruppentreffen
X-ORIGINAL-URL:https://cms.joinusgruppentreffen.eu
X-WR-CALDESC:Veranstaltungen für JoinUs Gruppentreffen
REFRESH-INTERVAL;VALUE=DURATION:PT1H
X-Robots-Tag:noindex
X-PUBLISHED-TTL:PT1H
BEGIN:VTIMEZONE
TZID:Europe/Paris
BEGIN:DAYLIGHT
TZOFFSETFROM:+0100
TZOFFSETTO:+0200
TZNAME:CEST
DTSTART:20230326T010000
END:DAYLIGHT
BEGIN:STANDARD
TZOFFSETFROM:+0200
TZOFFSETTO:+0100
TZNAME:CET
DTSTART:20231029T010000
END:STANDARD
BEGIN:DAYLIGHT
TZOFFSETFROM:+0100
TZOFFSETTO:+0200
TZNAME:CEST
DTSTART:20240331T010000
END:DAYLIGHT
BEGIN:STANDARD
TZOFFSETFROM:+0200
TZOFFSETTO:+0100
TZNAME:CET
DTSTART:20241027T010000
END:STANDARD
BEGIN:DAYLIGHT
TZOFFSETFROM:+0100
TZOFFSETTO:+0200
TZNAME:CEST
DTSTART:20250330T010000
END:DAYLIGHT
BEGIN:STANDARD
TZOFFSETFROM:+0200
TZOFFSETTO:+0100
TZNAME:CET
DTSTART:20251026T010000
END:STANDARD
END:VTIMEZONE
BEGIN:VEVENT
DTSTART;TZID=Europe/Paris:20241207T180000
DTEND;TZID=Europe/Paris:20241207T210000
DTSTAMP:20260422T163055
CREATED:20240929T131451Z
LAST-MODIFIED:20241205T133213Z
UID:7056-1733594400-1733605200@cms.joinusgruppentreffen.eu
SUMMARY:Bowling in Pfaffenhofen
DESCRIPTION:Keine ruhige Kugel schieben ist das Motto des Abends!\nKomm mit und zeig uns dein Können auf der Bahn 🙂 \nUm 18 Uhr treffen wir uns beim Song Que (Vietnamese) Schweitenkirchener Str. 3 (optional) \nDie Bahn ist ab 20 Uhr reserviert. \nGerne auch Kinder mitnehmen.
URL:https://cms.joinusgruppentreffen.eu/event/bowling-in-pfaffenhofen-2/
LOCATION:Hollywood Super Bowling Pfaffenhofen\, Ledererstr. 2\, Pfaffenhofen\, 85276
CATEGORIES:Sport
ATTACH;FMTTYPE=image/jpeg:https://cms.joinusgruppentreffen.eu/wp-content/uploads/2024/09/Bowling-JoinUs.jpg
ORGANIZER;CN="Bettina Bergmann":MAILTO:bettina@joinusgruppentreffen.eu
END:VEVENT
END:VCALENDAR