BEGIN:VCALENDAR
VERSION:2.0
PRODID:-//JoinUs Gruppentreffen - ECPv6.15.20//NONSGML v1.0//EN
CALSCALE:GREGORIAN
METHOD:PUBLISH
X-ORIGINAL-URL:https://cms.joinusgruppentreffen.eu
X-WR-CALDESC:Veranstaltungen für JoinUs Gruppentreffen
REFRESH-INTERVAL;VALUE=DURATION:PT1H
X-Robots-Tag:noindex
X-PUBLISHED-TTL:PT1H
BEGIN:VTIMEZONE
TZID:Europe/Paris
BEGIN:DAYLIGHT
TZOFFSETFROM:+0100
TZOFFSETTO:+0200
TZNAME:CEST
DTSTART:20230326T010000
END:DAYLIGHT
BEGIN:STANDARD
TZOFFSETFROM:+0200
TZOFFSETTO:+0100
TZNAME:CET
DTSTART:20231029T010000
END:STANDARD
BEGIN:DAYLIGHT
TZOFFSETFROM:+0100
TZOFFSETTO:+0200
TZNAME:CEST
DTSTART:20240331T010000
END:DAYLIGHT
BEGIN:STANDARD
TZOFFSETFROM:+0200
TZOFFSETTO:+0100
TZNAME:CET
DTSTART:20241027T010000
END:STANDARD
BEGIN:DAYLIGHT
TZOFFSETFROM:+0100
TZOFFSETTO:+0200
TZNAME:CEST
DTSTART:20250330T010000
END:DAYLIGHT
BEGIN:STANDARD
TZOFFSETFROM:+0200
TZOFFSETTO:+0100
TZNAME:CET
DTSTART:20251026T010000
END:STANDARD
END:VTIMEZONE
BEGIN:VEVENT
DTSTART;TZID=Europe/Paris:20241215T150000
DTEND;TZID=Europe/Paris:20241215T200000
DTSTAMP:20260422T164350
CREATED:20241103T082350Z
LAST-MODIFIED:20241213T094534Z
UID:7362-1734274800-1734292800@cms.joinusgruppentreffen.eu
SUMMARY:Weihnachtsfeier von JoinUs in Pfaffenhofen
DESCRIPTION:Mit kleiner Tombola – freiwillige Sachspenden sind gerne willkommen 🙂 \nDiese Veranstaltung ist drinnen 🙂 \nPerfekt\, um mal bei uns reinzuschnuppern 🙂 \nEs gibt Glühwein\, Kinderpunsch\, Gebäck\, verschiedene Plätzchen und natürlich was ihr gerne mitnehmen möchtet. \nZum Essen gibt es ein Bayrisches Buffet. \nDas Treffen (mit allem) ist absolut kostenlos – einfach kommen und den Tag genießen! \n(In der Ecke steht eine kleine Spendenbox für freiwillige Spenden) \nFahrgemeinschaften aus Freising/Ingolstadt stehen zur Verfügung\, bitte privat an bettina@joinusgruppentreffen.eu schreiben. \nAnmeldungen bitte bis Samstag\, 14.12 8:00 Uhr.
URL:https://cms.joinusgruppentreffen.eu/event/weihnachtsfeier-von-joinus-in-pfaffenhofen/
LOCATION:Kolpinghaus\, Auenstr. 50\, Pfaffenhofen\, 85276
CATEGORIES:Essen,Kultur,Party's
ATTACH;FMTTYPE=image/jpeg:https://cms.joinusgruppentreffen.eu/wp-content/uploads/2024/11/Weihnachtsfeier.jpg
ORGANIZER;CN="Bettina Bergmann":MAILTO:bettina@joinusgruppentreffen.eu
END:VEVENT
END:VCALENDAR