BEGIN:VCALENDAR
VERSION:2.0
PRODID:-//JoinUs Gruppentreffen - ECPv6.15.20//NONSGML v1.0//EN
CALSCALE:GREGORIAN
METHOD:PUBLISH
X-ORIGINAL-URL:https://cms.joinusgruppentreffen.eu
X-WR-CALDESC:Veranstaltungen für JoinUs Gruppentreffen
REFRESH-INTERVAL;VALUE=DURATION:PT1H
X-Robots-Tag:noindex
X-PUBLISHED-TTL:PT1H
BEGIN:VTIMEZONE
TZID:Europe/Paris
BEGIN:DAYLIGHT
TZOFFSETFROM:+0100
TZOFFSETTO:+0200
TZNAME:CEST
DTSTART:20240331T010000
END:DAYLIGHT
BEGIN:STANDARD
TZOFFSETFROM:+0200
TZOFFSETTO:+0100
TZNAME:CET
DTSTART:20241027T010000
END:STANDARD
BEGIN:DAYLIGHT
TZOFFSETFROM:+0100
TZOFFSETTO:+0200
TZNAME:CEST
DTSTART:20250330T010000
END:DAYLIGHT
BEGIN:STANDARD
TZOFFSETFROM:+0200
TZOFFSETTO:+0100
TZNAME:CET
DTSTART:20251026T010000
END:STANDARD
BEGIN:DAYLIGHT
TZOFFSETFROM:+0100
TZOFFSETTO:+0200
TZNAME:CEST
DTSTART:20260329T010000
END:DAYLIGHT
BEGIN:STANDARD
TZOFFSETFROM:+0200
TZOFFSETTO:+0100
TZNAME:CET
DTSTART:20261025T010000
END:STANDARD
END:VTIMEZONE
BEGIN:VEVENT
DTSTART;TZID=Europe/Paris:20250111T210000
DTEND;TZID=Europe/Paris:20250112T030000
DTSTAMP:20260422T151133
CREATED:20241223T093438Z
LAST-MODIFIED:20250107T131753Z
UID:7821-1736629200-1736650800@cms.joinusgruppentreffen.eu
SUMMARY:Ü30 Party in Pfaffenhofen mit Kati
DESCRIPTION:Alleine feiern? Nein danke! Komm schließ dich uns an!\n\nGrandioses Ambiente\, tolle Bühne und Sitzgelegenheiten verheißen eine phantastische Nacht am 11.01.2025. Ein eigener Schlagerbereich mit dem Profi-DJ Bibi\, plus 80s\, 90s\, Rock\, Pop und Charts in der Mainarea mit DJ Daniel Melegi.\nKarten gibt es im VVK und auch ab 21 Uhr an der Abendkasse vor Ort. Viel Spaß!\nPS: Du kannst auch einen Tisch reservieren. Schreib an info@megazin.de\nWir freuen uns auf dich!\n\nKarten 10€ pro Person
URL:https://cms.joinusgruppentreffen.eu/event/ue30-party-in-pfaffenhofen-mit-kati/
LOCATION:Stockerhof\, Münchener Str. 86\, Pfaffenhofen\, 85276
CATEGORIES:Party's
ATTACH;FMTTYPE=image/jpeg:https://cms.joinusgruppentreffen.eu/wp-content/uploads/2024/12/Ue30-Party.jpg
ORGANIZER;CN="Bettina Bergmann":MAILTO:bettina@joinusgruppentreffen.eu
END:VEVENT
END:VCALENDAR