BEGIN:VCALENDAR
VERSION:2.0
PRODID:-//JoinUs Gruppentreffen - ECPv6.15.20//NONSGML v1.0//EN
CALSCALE:GREGORIAN
METHOD:PUBLISH
X-WR-CALNAME:JoinUs Gruppentreffen
X-ORIGINAL-URL:https://cms.joinusgruppentreffen.eu
X-WR-CALDESC:Veranstaltungen für JoinUs Gruppentreffen
REFRESH-INTERVAL;VALUE=DURATION:PT1H
X-Robots-Tag:noindex
X-PUBLISHED-TTL:PT1H
BEGIN:VTIMEZONE
TZID:Europe/Paris
BEGIN:DAYLIGHT
TZOFFSETFROM:+0100
TZOFFSETTO:+0200
TZNAME:CEST
DTSTART:20240331T010000
END:DAYLIGHT
BEGIN:STANDARD
TZOFFSETFROM:+0200
TZOFFSETTO:+0100
TZNAME:CET
DTSTART:20241027T010000
END:STANDARD
BEGIN:DAYLIGHT
TZOFFSETFROM:+0100
TZOFFSETTO:+0200
TZNAME:CEST
DTSTART:20250330T010000
END:DAYLIGHT
BEGIN:STANDARD
TZOFFSETFROM:+0200
TZOFFSETTO:+0100
TZNAME:CET
DTSTART:20251026T010000
END:STANDARD
BEGIN:DAYLIGHT
TZOFFSETFROM:+0100
TZOFFSETTO:+0200
TZNAME:CEST
DTSTART:20260329T010000
END:DAYLIGHT
BEGIN:STANDARD
TZOFFSETFROM:+0200
TZOFFSETTO:+0100
TZNAME:CET
DTSTART:20261025T010000
END:STANDARD
END:VTIMEZONE
BEGIN:VEVENT
DTSTART;TZID=Europe/Paris:20250201T110000
DTEND;TZID=Europe/Paris:20250201T130000
DTSTAMP:20260422T133326
CREATED:20250127T140218Z
LAST-MODIFIED:20250127T140356Z
UID:8200-1738407600-1738414800@cms.joinusgruppentreffen.eu
SUMMARY:Markttage in Allershausen
DESCRIPTION:Unser monatlicher Allershausener Markt für vielfältige\, regionale und frische Produkte für den täglichen Bedarf aus der Region: Obst\, Gemüse\, Backwaren\, Aufstriche\, Wurst\, Fleisch\, Käse\, Honig\, Marmelade und vieles leckeres mehr. Auch gibt es wieder handwerklich hergestellte Produkte aus der Region und Geschenkartikel. \nUnsere Markttage sind aber vor allem auch ein Ort für Austausch\, Begegnung\, Spaß und Abwechslung. Für die kulinarischen Genüsse stehen unsere lokalen „Caterer“ mit „Pop-Up-Biergarten“ und wechselnden Speiseangebot zur Verfügung
URL:https://cms.joinusgruppentreffen.eu/event/markttage-in-allershausen-3/
LOCATION:Markttage Allershausen\, Klienberger Str.\, Allerhausen\, 85391\, Deutschland
ATTACH;FMTTYPE=image/jpeg:https://cms.joinusgruppentreffen.eu/wp-content/uploads/2024/09/Markttage-Allershausen-1.jpg
ORGANIZER;CN="Bettina Bergmann":MAILTO:bettina@joinusgruppentreffen.eu
END:VEVENT
BEGIN:VEVENT
DTSTART;TZID=Europe/Paris:20250201T160000
DTEND;TZID=Europe/Paris:20250201T180000
DTSTAMP:20260422T133326
CREATED:20250109T131301Z
LAST-MODIFIED:20250109T131618Z
UID:7943-1738425600-1738432800@cms.joinusgruppentreffen.eu
SUMMARY:Spielenachmittag in Pfaffenhofen
DESCRIPTION:Organisiert von der Kreisbücherei Pfaffenhofen \nGerne ohne Anmeldung vorbeikommen
URL:https://cms.joinusgruppentreffen.eu/event/spielenachmittag-in-pfaffenhofen/
LOCATION:Kreisbücherei Pfaffenhofen\, Scheyerer Str. 51\, Pfaffenhofen\, 85276\, Germany
CATEGORIES:Brettspiele
ATTACH;FMTTYPE=image/jpeg:https://cms.joinusgruppentreffen.eu/wp-content/uploads/2024/04/Brettspiele-scaled.jpg
END:VEVENT
END:VCALENDAR