BEGIN:VCALENDAR
VERSION:2.0
PRODID:-//JoinUs Gruppentreffen - ECPv6.15.20//NONSGML v1.0//EN
CALSCALE:GREGORIAN
METHOD:PUBLISH
X-ORIGINAL-URL:https://cms.joinusgruppentreffen.eu
X-WR-CALDESC:Veranstaltungen für JoinUs Gruppentreffen
REFRESH-INTERVAL;VALUE=DURATION:PT1H
X-Robots-Tag:noindex
X-PUBLISHED-TTL:PT1H
BEGIN:VTIMEZONE
TZID:Europe/Paris
BEGIN:DAYLIGHT
TZOFFSETFROM:+0100
TZOFFSETTO:+0200
TZNAME:CEST
DTSTART:20240331T010000
END:DAYLIGHT
BEGIN:STANDARD
TZOFFSETFROM:+0200
TZOFFSETTO:+0100
TZNAME:CET
DTSTART:20241027T010000
END:STANDARD
BEGIN:DAYLIGHT
TZOFFSETFROM:+0100
TZOFFSETTO:+0200
TZNAME:CEST
DTSTART:20250330T010000
END:DAYLIGHT
BEGIN:STANDARD
TZOFFSETFROM:+0200
TZOFFSETTO:+0100
TZNAME:CET
DTSTART:20251026T010000
END:STANDARD
BEGIN:DAYLIGHT
TZOFFSETFROM:+0100
TZOFFSETTO:+0200
TZNAME:CEST
DTSTART:20260329T010000
END:DAYLIGHT
BEGIN:STANDARD
TZOFFSETFROM:+0200
TZOFFSETTO:+0100
TZNAME:CET
DTSTART:20261025T010000
END:STANDARD
END:VTIMEZONE
BEGIN:VEVENT
DTSTART;TZID=Europe/Paris:20250207T180000
DTEND;TZID=Europe/Paris:20250207T213000
DTSTAMP:20260422T133730
CREATED:20241218T141541Z
LAST-MODIFIED:20250203T103548Z
UID:7790-1738951200-1738963800@cms.joinusgruppentreffen.eu
SUMMARY:Gemeinsam Indisch Kochen in Pfaffenhofen mit Priya
DESCRIPTION:Priya stammt gebürtig aus Indien und möchte ein paar Gerichte aus ihrer Heimat mit uns kochen. \nWir kochen: \n\nButter Hähnchen\nKichererbsen Curry\nKnoblauch Naan Brot\nMango Lassi\n\nFahrgemeinschaften aus Freising stehen zur Verfügung \nNatürlich wird das Zubereitete im Anschluss gegessen. \nKosten pro Person für Lebensmittel und Raum 20€ \nBarrierefrei zugänglich \nAnmeldung nur bis 02.02.2025 möglich\, danach nur noch nach Absprache! \n  \n 
URL:https://cms.joinusgruppentreffen.eu/event/gemeinsam-indisch-kochen-in-freising/
LOCATION:Evangelisches Gemeindezentrum\, Joseph-Maria-Lutz Str. 1\, Pfaffenhofen\, 85276
CATEGORIES:Essen,Highlights
ATTACH;FMTTYPE=image/jpeg:https://cms.joinusgruppentreffen.eu/wp-content/uploads/2024/09/Gemeinsam-Kochen.jpg
ORGANIZER;CN="Bettina Bergmann":MAILTO:bettina@joinusgruppentreffen.eu
END:VEVENT
END:VCALENDAR