BEGIN:VCALENDAR
VERSION:2.0
PRODID:-//JoinUs Gruppentreffen - ECPv6.15.20//NONSGML v1.0//EN
CALSCALE:GREGORIAN
METHOD:PUBLISH
X-WR-CALNAME:JoinUs Gruppentreffen
X-ORIGINAL-URL:https://cms.joinusgruppentreffen.eu
X-WR-CALDESC:Veranstaltungen für JoinUs Gruppentreffen
REFRESH-INTERVAL;VALUE=DURATION:PT1H
X-Robots-Tag:noindex
X-PUBLISHED-TTL:PT1H
BEGIN:VTIMEZONE
TZID:Europe/Paris
BEGIN:DAYLIGHT
TZOFFSETFROM:+0100
TZOFFSETTO:+0200
TZNAME:CEST
DTSTART:20240331T010000
END:DAYLIGHT
BEGIN:STANDARD
TZOFFSETFROM:+0200
TZOFFSETTO:+0100
TZNAME:CET
DTSTART:20241027T010000
END:STANDARD
BEGIN:DAYLIGHT
TZOFFSETFROM:+0100
TZOFFSETTO:+0200
TZNAME:CEST
DTSTART:20250330T010000
END:DAYLIGHT
BEGIN:STANDARD
TZOFFSETFROM:+0200
TZOFFSETTO:+0100
TZNAME:CET
DTSTART:20251026T010000
END:STANDARD
BEGIN:DAYLIGHT
TZOFFSETFROM:+0100
TZOFFSETTO:+0200
TZNAME:CEST
DTSTART:20260329T010000
END:DAYLIGHT
BEGIN:STANDARD
TZOFFSETFROM:+0200
TZOFFSETTO:+0100
TZNAME:CET
DTSTART:20261025T010000
END:STANDARD
END:VTIMEZONE
BEGIN:VEVENT
DTSTART;TZID=Europe/Paris:20250208T110000
DTEND;TZID=Europe/Paris:20250208T140000
DTSTAMP:20260422T133323
CREATED:20250129T130903Z
LAST-MODIFIED:20250130T000603Z
UID:8217-1739012400-1739023200@cms.joinusgruppentreffen.eu
SUMMARY:International Brunch im Café Übrig in Freising
DESCRIPTION:Das beste am Café Übrig – hier werden gerettete Lebensmittel (z.B. aus Supermärten\, die eigentlich weggeschmissen werden würden\, aber noch gut sind) verwertet und den Preis für deine Getränke und Essen bestimmst du 🙂 \nGerne auch spontan – ohne Anmeldung vorbeikommen 🙂 \nBarrierefrei zugänglich
URL:https://cms.joinusgruppentreffen.eu/event/international-brunch-im-cafe-uebrig-in-freising/
LOCATION:Café Übrig\, General-von-Nagel-Straße 9\, Freising\, 85354
ATTACH;FMTTYPE=image/jpeg:https://cms.joinusgruppentreffen.eu/wp-content/uploads/2025/01/WhatsApp-Bild-2025-01-29-um-14.07.46_a05f95e8.jpg
ORGANIZER;CN="Bettina Bergmann":MAILTO:bettina@joinusgruppentreffen.eu
END:VEVENT
END:VCALENDAR