BEGIN:VCALENDAR
VERSION:2.0
PRODID:-//JoinUs Gruppentreffen - ECPv6.15.20//NONSGML v1.0//EN
CALSCALE:GREGORIAN
METHOD:PUBLISH
X-WR-CALNAME:JoinUs Gruppentreffen
X-ORIGINAL-URL:https://cms.joinusgruppentreffen.eu
X-WR-CALDESC:Veranstaltungen für JoinUs Gruppentreffen
REFRESH-INTERVAL;VALUE=DURATION:PT1H
X-Robots-Tag:noindex
X-PUBLISHED-TTL:PT1H
BEGIN:VTIMEZONE
TZID:Europe/Paris
BEGIN:DAYLIGHT
TZOFFSETFROM:+0100
TZOFFSETTO:+0200
TZNAME:CEST
DTSTART:20240331T010000
END:DAYLIGHT
BEGIN:STANDARD
TZOFFSETFROM:+0200
TZOFFSETTO:+0100
TZNAME:CET
DTSTART:20241027T010000
END:STANDARD
BEGIN:DAYLIGHT
TZOFFSETFROM:+0100
TZOFFSETTO:+0200
TZNAME:CEST
DTSTART:20250330T010000
END:DAYLIGHT
BEGIN:STANDARD
TZOFFSETFROM:+0200
TZOFFSETTO:+0100
TZNAME:CET
DTSTART:20251026T010000
END:STANDARD
BEGIN:DAYLIGHT
TZOFFSETFROM:+0100
TZOFFSETTO:+0200
TZNAME:CEST
DTSTART:20260329T010000
END:DAYLIGHT
BEGIN:STANDARD
TZOFFSETFROM:+0200
TZOFFSETTO:+0100
TZNAME:CET
DTSTART:20261025T010000
END:STANDARD
END:VTIMEZONE
BEGIN:VEVENT
DTSTART;TZID=Europe/Paris:20250211T180000
DTEND;TZID=Europe/Paris:20250211T210000
DTSTAMP:20260422T133425
CREATED:20250208T092638Z
LAST-MODIFIED:20250211T083346Z
UID:8274-1739296800-1739307600@cms.joinusgruppentreffen.eu
SUMMARY:Steak essen beim Othello in Pfaffenhofen
DESCRIPTION:Genieße einen geselligen Abend bei einem saftigen Steak in Pfaffenhofen! In gemütlicher Atmosphäre lassen wir uns beste Fleischspezialitäten schmecken und genießen gute Gespräche. Perfekt für alle Steakliebhaber und Genießer! Sei dabei und erlebe einen leckeren Abend in netter Runde! \nIhr könnt natürlich auch andere Gerichte bestellen.
URL:https://cms.joinusgruppentreffen.eu/event/steak-essen-beim-othello-in-pfaffenhofen-2/
LOCATION:Café Othello\, Hauptplatz 2 Pfaffenhofen\, 85276 Germany
CATEGORIES:Essen
ATTACH;FMTTYPE=image/jpeg:https://cms.joinusgruppentreffen.eu/wp-content/uploads/2024/05/Steak-scaled.jpg
ORGANIZER;CN="Bettina Bergmann":MAILTO:bettina@joinusgruppentreffen.eu
END:VEVENT
END:VCALENDAR