BEGIN:VCALENDAR
VERSION:2.0
PRODID:-//JoinUs Gruppentreffen - ECPv6.15.20//NONSGML v1.0//EN
CALSCALE:GREGORIAN
METHOD:PUBLISH
X-WR-CALNAME:JoinUs Gruppentreffen
X-ORIGINAL-URL:https://cms.joinusgruppentreffen.eu
X-WR-CALDESC:Veranstaltungen für JoinUs Gruppentreffen
REFRESH-INTERVAL;VALUE=DURATION:PT1H
X-Robots-Tag:noindex
X-PUBLISHED-TTL:PT1H
BEGIN:VTIMEZONE
TZID:Europe/Paris
BEGIN:DAYLIGHT
TZOFFSETFROM:+0100
TZOFFSETTO:+0200
TZNAME:CEST
DTSTART:20240331T010000
END:DAYLIGHT
BEGIN:STANDARD
TZOFFSETFROM:+0200
TZOFFSETTO:+0100
TZNAME:CET
DTSTART:20241027T010000
END:STANDARD
BEGIN:DAYLIGHT
TZOFFSETFROM:+0100
TZOFFSETTO:+0200
TZNAME:CEST
DTSTART:20250330T010000
END:DAYLIGHT
BEGIN:STANDARD
TZOFFSETFROM:+0200
TZOFFSETTO:+0100
TZNAME:CET
DTSTART:20251026T010000
END:STANDARD
BEGIN:DAYLIGHT
TZOFFSETFROM:+0100
TZOFFSETTO:+0200
TZNAME:CEST
DTSTART:20260329T010000
END:DAYLIGHT
BEGIN:STANDARD
TZOFFSETFROM:+0200
TZOFFSETTO:+0100
TZNAME:CET
DTSTART:20261025T010000
END:STANDARD
END:VTIMEZONE
BEGIN:VEVENT
DTSTART;TZID=Europe/Paris:20250220T183000
DTEND;TZID=Europe/Paris:20250220T213000
DTSTAMP:20260422T133325
CREATED:20250209T091143Z
LAST-MODIFIED:20250214T093522Z
UID:8295-1740076200-1740087000@cms.joinusgruppentreffen.eu
SUMMARY:Indoor Neon Minigolf in Neufahrn
DESCRIPTION:Tauche ein in eine leuchtende Welt beim Neon-Minigolf! Spiele auf faszinierenden Bahnen mit fluoreszierenden Hindernissen und erlebe den Spaß in Schwarzlicht-Atmosphäre. Ob mit Freunden oder Familie – hier zählt Geschick und jede Menge Spaß. Schnapp dir deinen Schläger und leuchte mit den Bällen um die Wette! \nKosten: 20€ pro Person
URL:https://cms.joinusgruppentreffen.eu/event/neon-minigolf-in-neufahrn-2/
LOCATION:Cineplex Neufahrn\, Bajuwarenstraße 5\, Neufahrn bei Freising\, 85375
ATTACH;FMTTYPE=image/jpeg:https://cms.joinusgruppentreffen.eu/wp-content/uploads/2024/03/Neon-Minigolf.jpg
ORGANIZER;CN="Bettina Bergmann":MAILTO:bettina@joinusgruppentreffen.eu
END:VEVENT
END:VCALENDAR