BEGIN:VCALENDAR
VERSION:2.0
PRODID:-//JoinUs Gruppentreffen - ECPv6.15.20//NONSGML v1.0//EN
CALSCALE:GREGORIAN
METHOD:PUBLISH
X-ORIGINAL-URL:https://cms.joinusgruppentreffen.eu
X-WR-CALDESC:Veranstaltungen für JoinUs Gruppentreffen
REFRESH-INTERVAL;VALUE=DURATION:PT1H
X-Robots-Tag:noindex
X-PUBLISHED-TTL:PT1H
BEGIN:VTIMEZONE
TZID:Europe/Paris
BEGIN:DAYLIGHT
TZOFFSETFROM:+0100
TZOFFSETTO:+0200
TZNAME:CEST
DTSTART:20240331T010000
END:DAYLIGHT
BEGIN:STANDARD
TZOFFSETFROM:+0200
TZOFFSETTO:+0100
TZNAME:CET
DTSTART:20241027T010000
END:STANDARD
BEGIN:DAYLIGHT
TZOFFSETFROM:+0100
TZOFFSETTO:+0200
TZNAME:CEST
DTSTART:20250330T010000
END:DAYLIGHT
BEGIN:STANDARD
TZOFFSETFROM:+0200
TZOFFSETTO:+0100
TZNAME:CET
DTSTART:20251026T010000
END:STANDARD
BEGIN:DAYLIGHT
TZOFFSETFROM:+0100
TZOFFSETTO:+0200
TZNAME:CEST
DTSTART:20260329T010000
END:DAYLIGHT
BEGIN:STANDARD
TZOFFSETFROM:+0200
TZOFFSETTO:+0100
TZNAME:CET
DTSTART:20261025T010000
END:STANDARD
END:VTIMEZONE
BEGIN:VEVENT
DTSTART;TZID=Europe/Paris:20250226T180000
DTEND;TZID=Europe/Paris:20250226T210000
DTSTAMP:20260422T121017
CREATED:20250209T091638Z
LAST-MODIFIED:20250213T162333Z
UID:8298-1740592800-1740603600@cms.joinusgruppentreffen.eu
SUMMARY:Billard in Pfaffenhofen
DESCRIPTION:Schnapp dir deinen Queue und zeig dein Können beim Billard! Ob Anfänger oder Profi – hier zählt Geschick\, Taktik und eine ruhige Hand. Spiele mit Freunden\, genieße die entspannte Atmosphäre und versuche\, die perfekte Kugel zu versenken. Komm vorbei\, hab Spaß und erlebe einen spannenden Abend am grünen Tisch!
URL:https://cms.joinusgruppentreffen.eu/event/billard-in-pfaffenhofen-3/
LOCATION:Forplay Pfaffenhofen\, Ledererstr. 4 Pfaffenhofen \, 85276\, 85276\, Germany
ATTACH;FMTTYPE=image/jpeg:https://cms.joinusgruppentreffen.eu/wp-content/uploads/2024/09/Billard.jpg
ORGANIZER;CN="Bettina Bergmann":MAILTO:bettina@joinusgruppentreffen.eu
END:VEVENT
END:VCALENDAR