BEGIN:VCALENDAR
VERSION:2.0
PRODID:-//JoinUs Gruppentreffen - ECPv6.15.20//NONSGML v1.0//EN
CALSCALE:GREGORIAN
METHOD:PUBLISH
X-WR-CALNAME:JoinUs Gruppentreffen
X-ORIGINAL-URL:https://cms.joinusgruppentreffen.eu
X-WR-CALDESC:Veranstaltungen für JoinUs Gruppentreffen
REFRESH-INTERVAL;VALUE=DURATION:PT1H
X-Robots-Tag:noindex
X-PUBLISHED-TTL:PT1H
BEGIN:VTIMEZONE
TZID:Europe/Paris
BEGIN:DAYLIGHT
TZOFFSETFROM:+0100
TZOFFSETTO:+0200
TZNAME:CEST
DTSTART:20240331T010000
END:DAYLIGHT
BEGIN:STANDARD
TZOFFSETFROM:+0200
TZOFFSETTO:+0100
TZNAME:CET
DTSTART:20241027T010000
END:STANDARD
BEGIN:DAYLIGHT
TZOFFSETFROM:+0100
TZOFFSETTO:+0200
TZNAME:CEST
DTSTART:20250330T010000
END:DAYLIGHT
BEGIN:STANDARD
TZOFFSETFROM:+0200
TZOFFSETTO:+0100
TZNAME:CET
DTSTART:20251026T010000
END:STANDARD
BEGIN:DAYLIGHT
TZOFFSETFROM:+0100
TZOFFSETTO:+0200
TZNAME:CEST
DTSTART:20260329T010000
END:DAYLIGHT
BEGIN:STANDARD
TZOFFSETFROM:+0200
TZOFFSETTO:+0100
TZNAME:CET
DTSTART:20261025T010000
END:STANDARD
END:VTIMEZONE
BEGIN:VEVENT
DTSTART;TZID=Europe/Paris:20250302T103000
DTEND;TZID=Europe/Paris:20250302T130000
DTSTAMP:20260422T120717
CREATED:20250222T080357Z
LAST-MODIFIED:20250226T130909Z
UID:8421-1740911400-1740920400@cms.joinusgruppentreffen.eu
SUMMARY:Frühstück in Freising
DESCRIPTION:
URL:https://cms.joinusgruppentreffen.eu/event/fruehstueck-in-freising-6/
LOCATION:Parkcafé Freising\, Am Wörh 23\, Freising\, 85354
ATTACH;FMTTYPE=image/jpeg:https://cms.joinusgruppentreffen.eu/wp-content/uploads/2024/03/Fruehstueck-1-scaled.jpg
ORGANIZER;CN="Bettina Bergmann":MAILTO:bettina@joinusgruppentreffen.eu
END:VEVENT
BEGIN:VEVENT
DTSTART;TZID=Europe/Paris:20250302T130000
DTEND;TZID=Europe/Paris:20250302T160000
DTSTAMP:20260422T120717
CREATED:20250222T075240Z
LAST-MODIFIED:20250227T103214Z
UID:8417-1740920400-1740931200@cms.joinusgruppentreffen.eu
SUMMARY:Spaziergang in Freising
DESCRIPTION:Treffpunkt vorm Parkcafé
URL:https://cms.joinusgruppentreffen.eu/event/spaziergang-in-freising/
LOCATION:Freising
ATTACH;FMTTYPE=image/jpeg:https://cms.joinusgruppentreffen.eu/wp-content/uploads/2025/02/Spaziergang1.jpg
ORGANIZER;CN="Bettina Bergmann":MAILTO:bettina@joinusgruppentreffen.eu
END:VEVENT
END:VCALENDAR