BEGIN:VCALENDAR
VERSION:2.0
PRODID:-//JoinUs Gruppentreffen - ECPv6.15.20//NONSGML v1.0//EN
CALSCALE:GREGORIAN
METHOD:PUBLISH
X-ORIGINAL-URL:https://cms.joinusgruppentreffen.eu
X-WR-CALDESC:Veranstaltungen für JoinUs Gruppentreffen
REFRESH-INTERVAL;VALUE=DURATION:PT1H
X-Robots-Tag:noindex
X-PUBLISHED-TTL:PT1H
BEGIN:VTIMEZONE
TZID:Europe/Paris
BEGIN:DAYLIGHT
TZOFFSETFROM:+0100
TZOFFSETTO:+0200
TZNAME:CEST
DTSTART:20240331T010000
END:DAYLIGHT
BEGIN:STANDARD
TZOFFSETFROM:+0200
TZOFFSETTO:+0100
TZNAME:CET
DTSTART:20241027T010000
END:STANDARD
BEGIN:DAYLIGHT
TZOFFSETFROM:+0100
TZOFFSETTO:+0200
TZNAME:CEST
DTSTART:20250330T010000
END:DAYLIGHT
BEGIN:STANDARD
TZOFFSETFROM:+0200
TZOFFSETTO:+0100
TZNAME:CET
DTSTART:20251026T010000
END:STANDARD
BEGIN:DAYLIGHT
TZOFFSETFROM:+0100
TZOFFSETTO:+0200
TZNAME:CEST
DTSTART:20260329T010000
END:DAYLIGHT
BEGIN:STANDARD
TZOFFSETFROM:+0200
TZOFFSETTO:+0100
TZNAME:CET
DTSTART:20261025T010000
END:STANDARD
END:VTIMEZONE
BEGIN:VEVENT
DTSTART;TZID=Europe/Paris:20250311T180000
DTEND;TZID=Europe/Paris:20250311T210000
DTSTAMP:20260422T121016
CREATED:20250225T194152Z
LAST-MODIFIED:20250308T100654Z
UID:8459-1741716000-1741726800@cms.joinusgruppentreffen.eu
SUMMARY:Dart in Pfaffenhofen
DESCRIPTION:gerne auch später dazukommen 🙂 \nDart & Drinks – Triff neue Leute! (nicht mit den Dartpfeilen :D) 🎯🍻 \nLust auf eine lockere Runde Dart und neue Bekanntschaften? Dann sei dabei! Egal\, ob Anfänger oder Profi – hier zählt der Spaß. In entspannter Atmosphäre kannst du werfen\, lachen und coole Leute kennenlernen. Wir spielen ohne Druck\, aber mit viel guter Laune. Komm vorbei\, schnapp dir ein Getränk und zeig dein Wurfgeschick! 🎯😊 \nWir treffen uns um 17 Uhr beim Song Que zum Essen (wer mag)
URL:https://cms.joinusgruppentreffen.eu/event/dart-in-pfaffenhofen/
LOCATION:DC Rebels\, Raiffeisenstr. 15\, Pfaffenhofen\, 85276
ATTACH;FMTTYPE=image/jpeg:https://cms.joinusgruppentreffen.eu/wp-content/uploads/2025/02/20250225_224315-scaled.jpg
ORGANIZER;CN="Bettina Bergmann":MAILTO:bettina@joinusgruppentreffen.eu
END:VEVENT
END:VCALENDAR