BEGIN:VCALENDAR
VERSION:2.0
PRODID:-//JoinUs Gruppentreffen - ECPv6.15.20//NONSGML v1.0//EN
CALSCALE:GREGORIAN
METHOD:PUBLISH
X-WR-CALNAME:JoinUs Gruppentreffen
X-ORIGINAL-URL:https://cms.joinusgruppentreffen.eu
X-WR-CALDESC:Veranstaltungen für JoinUs Gruppentreffen
REFRESH-INTERVAL;VALUE=DURATION:PT1H
X-Robots-Tag:noindex
X-PUBLISHED-TTL:PT1H
BEGIN:VTIMEZONE
TZID:Europe/Paris
BEGIN:DAYLIGHT
TZOFFSETFROM:+0100
TZOFFSETTO:+0200
TZNAME:CEST
DTSTART:20240331T010000
END:DAYLIGHT
BEGIN:STANDARD
TZOFFSETFROM:+0200
TZOFFSETTO:+0100
TZNAME:CET
DTSTART:20241027T010000
END:STANDARD
BEGIN:DAYLIGHT
TZOFFSETFROM:+0100
TZOFFSETTO:+0200
TZNAME:CEST
DTSTART:20250330T010000
END:DAYLIGHT
BEGIN:STANDARD
TZOFFSETFROM:+0200
TZOFFSETTO:+0100
TZNAME:CET
DTSTART:20251026T010000
END:STANDARD
BEGIN:DAYLIGHT
TZOFFSETFROM:+0100
TZOFFSETTO:+0200
TZNAME:CEST
DTSTART:20260329T010000
END:DAYLIGHT
BEGIN:STANDARD
TZOFFSETFROM:+0200
TZOFFSETTO:+0100
TZNAME:CET
DTSTART:20261025T010000
END:STANDARD
END:VTIMEZONE
BEGIN:VEVENT
DTSTART;TZID=Europe/Paris:20250316T160000
DTEND;TZID=Europe/Paris:20250316T190000
DTSTAMP:20260422T120541
CREATED:20241218T141218Z
LAST-MODIFIED:20250216T151857Z
UID:7787-1742140800-1742151600@cms.joinusgruppentreffen.eu
SUMMARY:Bierprobe in Pfaffenhofen mit Stephan (Biersommellier)
DESCRIPTION:Lust auf ein geselliges Treffen mit spannenden Bierkreationen? Gemeinsam mit Joinus Gruppentreffen probieren wir fünf ausgewählte Biere – von mild bis kräftig\, von klassisch bis kreativ. Dabei tauschen wir uns über Aromen\, Braukunst und Lieblingssorten aus.\nWas dich erwartet: 5 spannende Biere zur Verkostung Alternativ 3 alkoholfreie Biere Wasser und eine kleine Brotzeit zur Begleitung (kein vollständiges Abendessen) Gute Gesellschaft & interessante Gespräche\n Wann & Wo: 16.03. im Mehrgenerationenhaus\, Ambergerweg 3 in Pfaffenhofen/Ilm Kosten: 19 € pro Person\nSichere dir jetzt deinen Platz und stoß mit uns an! \n\nBarrierefrei zugänglich
URL:https://cms.joinusgruppentreffen.eu/event/bierprobe-in-pfaffenhofen-mit-stephan/
LOCATION:Mehrgenerationenhaus Pfaffenhofen\, Ambergerweg 3\, Pfaffenhofen\, 85276
CATEGORIES:Essen,Highlights,Kultur
ATTACH;FMTTYPE=image/jpeg:https://cms.joinusgruppentreffen.eu/wp-content/uploads/2024/08/Bierverkostung.jpeg
ORGANIZER;CN="Bettina Bergmann":MAILTO:bettina@joinusgruppentreffen.eu
END:VEVENT
END:VCALENDAR