BEGIN:VCALENDAR
VERSION:2.0
PRODID:-//JoinUs Gruppentreffen - ECPv6.15.20//NONSGML v1.0//EN
CALSCALE:GREGORIAN
METHOD:PUBLISH
X-WR-CALNAME:JoinUs Gruppentreffen
X-ORIGINAL-URL:https://cms.joinusgruppentreffen.eu
X-WR-CALDESC:Veranstaltungen für JoinUs Gruppentreffen
REFRESH-INTERVAL;VALUE=DURATION:PT1H
X-Robots-Tag:noindex
X-PUBLISHED-TTL:PT1H
BEGIN:VTIMEZONE
TZID:Europe/Paris
BEGIN:DAYLIGHT
TZOFFSETFROM:+0100
TZOFFSETTO:+0200
TZNAME:CEST
DTSTART:20240331T010000
END:DAYLIGHT
BEGIN:STANDARD
TZOFFSETFROM:+0200
TZOFFSETTO:+0100
TZNAME:CET
DTSTART:20241027T010000
END:STANDARD
BEGIN:DAYLIGHT
TZOFFSETFROM:+0100
TZOFFSETTO:+0200
TZNAME:CEST
DTSTART:20250330T010000
END:DAYLIGHT
BEGIN:STANDARD
TZOFFSETFROM:+0200
TZOFFSETTO:+0100
TZNAME:CET
DTSTART:20251026T010000
END:STANDARD
BEGIN:DAYLIGHT
TZOFFSETFROM:+0100
TZOFFSETTO:+0200
TZNAME:CEST
DTSTART:20260329T010000
END:DAYLIGHT
BEGIN:STANDARD
TZOFFSETFROM:+0200
TZOFFSETTO:+0100
TZNAME:CET
DTSTART:20261025T010000
END:STANDARD
END:VTIMEZONE
BEGIN:VEVENT
DTSTART;TZID=Europe/Paris:20250328T180000
DTEND;TZID=Europe/Paris:20250328T210000
DTSTAMP:20260422T120531
CREATED:20250313T074522Z
LAST-MODIFIED:20250326T101632Z
UID:8694-1743184800-1743195600@cms.joinusgruppentreffen.eu
SUMMARY:Inklusions Dartturnier in Schrobenhausen
DESCRIPTION:Komm einfach vorbei und wirf ein paar Pfeile mit uns (Steeldart) \nIn Kooperation mit Flamingos for Handicap. \nFahrgemeinschaften aus Pfaffenhofen/Freising stehen zur Verfügung\, bei Bedarf bitte WhatsApp an 01525 4275305 \nDie Location ist nicht barrierefrei
URL:https://cms.joinusgruppentreffen.eu/event/darten-in-schrobenhausen/
LOCATION:Flamingos for Handicap\, Sportweg 6\, Schrobenhausen\, 86529\, Germany
ATTACH;FMTTYPE=image/jpeg:https://cms.joinusgruppentreffen.eu/wp-content/uploads/2025/03/Steeldart.jpg
ORGANIZER;CN="Bettina Bergmann":MAILTO:bettina@joinusgruppentreffen.eu
END:VEVENT
END:VCALENDAR