BEGIN:VCALENDAR
VERSION:2.0
PRODID:-//JoinUs Gruppentreffen - ECPv6.15.20//NONSGML v1.0//EN
CALSCALE:GREGORIAN
METHOD:PUBLISH
X-ORIGINAL-URL:https://cms.joinusgruppentreffen.eu
X-WR-CALDESC:Veranstaltungen für JoinUs Gruppentreffen
REFRESH-INTERVAL;VALUE=DURATION:PT1H
X-Robots-Tag:noindex
X-PUBLISHED-TTL:PT1H
BEGIN:VTIMEZONE
TZID:Europe/Paris
BEGIN:DAYLIGHT
TZOFFSETFROM:+0100
TZOFFSETTO:+0200
TZNAME:CEST
DTSTART:20240331T010000
END:DAYLIGHT
BEGIN:STANDARD
TZOFFSETFROM:+0200
TZOFFSETTO:+0100
TZNAME:CET
DTSTART:20241027T010000
END:STANDARD
BEGIN:DAYLIGHT
TZOFFSETFROM:+0100
TZOFFSETTO:+0200
TZNAME:CEST
DTSTART:20250330T010000
END:DAYLIGHT
BEGIN:STANDARD
TZOFFSETFROM:+0200
TZOFFSETTO:+0100
TZNAME:CET
DTSTART:20251026T010000
END:STANDARD
BEGIN:DAYLIGHT
TZOFFSETFROM:+0100
TZOFFSETTO:+0200
TZNAME:CEST
DTSTART:20260329T010000
END:DAYLIGHT
BEGIN:STANDARD
TZOFFSETFROM:+0200
TZOFFSETTO:+0100
TZNAME:CET
DTSTART:20261025T010000
END:STANDARD
END:VTIMEZONE
BEGIN:VEVENT
DTSTART;TZID=Europe/Paris:20250424T170000
DTEND;TZID=Europe/Paris:20250424T200000
DTSTAMP:20260422T103412
CREATED:20250320T164240Z
LAST-MODIFIED:20250423T161626Z
UID:8764-1745514000-1745524800@cms.joinusgruppentreffen.eu
SUMMARY:Tag des Bieres in Freising
DESCRIPTION:Alleine hingehen? Wie langweilig! \nKomm schließ dich unserer Gruppe an 🙂 \n  \nDer Tag des Bieres ist der Auftakt ins Open-Air-Jahr! Auch in 2025 wird auf dem Marienplatz wieder der Geburtstag des Reinheitsgebots von 1516 gefeiert.Wie gewohnt\, wird die Hälfte des Erlöses für einen guten Zweck gespendet. In diesem Jahr ist das der “Leichte Nachrichtendienst” (LENADI) der Lebenshilfe Freising. In politisch brisanten Zeiten wie diesen ist es wichtig\, dass jeder Mensch Zugang zu verständlichen Nachrichten hat. Das Team\, bestehend aus Menschen ohne und mit Behinderung\, hat sich diesem Ziel verschrieben.Markiert den Tag schon einmal rot in eurem Kalender… \nTreffpunkt ist am Kriegerdenkmal
URL:https://cms.joinusgruppentreffen.eu/event/tag-des-bieres-in-freising/
LOCATION:Freising Marienplatz\, 85354
ATTACH;FMTTYPE=image/jpeg:https://cms.joinusgruppentreffen.eu/wp-content/uploads/2024/03/Bier-scaled.jpg
ORGANIZER;CN="Bettina Bergmann":MAILTO:bettina@joinusgruppentreffen.eu
END:VEVENT
END:VCALENDAR