BEGIN:VCALENDAR
VERSION:2.0
PRODID:-//JoinUs Gruppentreffen - ECPv6.15.20//NONSGML v1.0//EN
CALSCALE:GREGORIAN
METHOD:PUBLISH
X-WR-CALNAME:JoinUs Gruppentreffen
X-ORIGINAL-URL:https://cms.joinusgruppentreffen.eu
X-WR-CALDESC:Veranstaltungen für JoinUs Gruppentreffen
REFRESH-INTERVAL;VALUE=DURATION:PT1H
X-Robots-Tag:noindex
X-PUBLISHED-TTL:PT1H
BEGIN:VTIMEZONE
TZID:Europe/Paris
BEGIN:DAYLIGHT
TZOFFSETFROM:+0100
TZOFFSETTO:+0200
TZNAME:CEST
DTSTART:20240331T010000
END:DAYLIGHT
BEGIN:STANDARD
TZOFFSETFROM:+0200
TZOFFSETTO:+0100
TZNAME:CET
DTSTART:20241027T010000
END:STANDARD
BEGIN:DAYLIGHT
TZOFFSETFROM:+0100
TZOFFSETTO:+0200
TZNAME:CEST
DTSTART:20250330T010000
END:DAYLIGHT
BEGIN:STANDARD
TZOFFSETFROM:+0200
TZOFFSETTO:+0100
TZNAME:CET
DTSTART:20251026T010000
END:STANDARD
BEGIN:DAYLIGHT
TZOFFSETFROM:+0100
TZOFFSETTO:+0200
TZNAME:CEST
DTSTART:20260329T010000
END:DAYLIGHT
BEGIN:STANDARD
TZOFFSETFROM:+0200
TZOFFSETTO:+0100
TZNAME:CET
DTSTART:20261025T010000
END:STANDARD
END:VTIMEZONE
BEGIN:VEVENT
DTSTART;TZID=Europe/Paris:20250521T180000
DTEND;TZID=Europe/Paris:20250521T210000
DTSTAMP:20260420T095507
CREATED:20250517T080455Z
LAST-MODIFIED:20250520T161521Z
UID:9180-1747850400-1747861200@cms.joinusgruppentreffen.eu
SUMMARY:Schafkopfen in Freising
DESCRIPTION:Schafkopf-Abend im Café Übrig in Freising – Sei dabei!\nLust auf einen geselligen Abend mit bayerischer Tradition? Dann komm am Mittwoch\, den 21. Mai 2025\, ab 18:00 Uhr ins gemütliche Café Übrig in der General-von-Nagel-Straße 9\, 85354 Freising. Hier wird wieder Schafkopf gespielt – das beliebte bayerische Kartenspiel für alle\, die Spaß an Taktik\, Teamgeist und Tradition haben. \nEgal\, ob Du Schafkopf-Profi bist oder einfach nur reinschnuppern willst – bei uns bist Du herzlich willkommen! In entspannter Atmosphäre lernst Du neue Leute kennen\, verbesserst Dein Spiel oder entdeckst das Kartenspiel ganz neu. \nBring Deine Freunde mit oder komm einfach allein vorbei – beim Schafkopfen findet man schnell Anschluss. Für Getränke und kleine Snacks ist im Café Übrig gegen eine kleine “Spende” gesorgt. \nWarum solltest Du teilnehmen? \n\nAuthentischer Schafkopf-Abend in Freising\nGemütliche Location mit bayerischem Flair\nNette Leute\, faire Spiele\, jede Menge Spaß\n\nMach Dir einen schönen Abend\, genieße die Gesellschaft und erlebe\, wie viel Freude ein klassisches Kartenspiel bereiten kann. Meld Dich an oder komm spontan vorbei!
URL:https://cms.joinusgruppentreffen.eu/event/schafkopfen-in-freising-5/
LOCATION:Café Übrig\, General-von-Nagel-Straße 9\, Freising\, 85354
CATEGORIES:Brettspiele,Essen,Kultur
ATTACH;FMTTYPE=image/jpeg:https://cms.joinusgruppentreffen.eu/wp-content/uploads/2025/02/Schafkopfen.jpg
ORGANIZER;CN="Bettina Bergmann":MAILTO:bettina@joinusgruppentreffen.eu
END:VEVENT
END:VCALENDAR