BEGIN:VCALENDAR
VERSION:2.0
PRODID:-//JoinUs Gruppentreffen - ECPv6.15.20//NONSGML v1.0//EN
CALSCALE:GREGORIAN
METHOD:PUBLISH
X-ORIGINAL-URL:https://cms.joinusgruppentreffen.eu
X-WR-CALDESC:Veranstaltungen für JoinUs Gruppentreffen
REFRESH-INTERVAL;VALUE=DURATION:PT1H
X-Robots-Tag:noindex
X-PUBLISHED-TTL:PT1H
BEGIN:VTIMEZONE
TZID:Europe/Paris
BEGIN:DAYLIGHT
TZOFFSETFROM:+0100
TZOFFSETTO:+0200
TZNAME:CEST
DTSTART:20240331T010000
END:DAYLIGHT
BEGIN:STANDARD
TZOFFSETFROM:+0200
TZOFFSETTO:+0100
TZNAME:CET
DTSTART:20241027T010000
END:STANDARD
BEGIN:DAYLIGHT
TZOFFSETFROM:+0100
TZOFFSETTO:+0200
TZNAME:CEST
DTSTART:20250330T010000
END:DAYLIGHT
BEGIN:STANDARD
TZOFFSETFROM:+0200
TZOFFSETTO:+0100
TZNAME:CET
DTSTART:20251026T010000
END:STANDARD
BEGIN:DAYLIGHT
TZOFFSETFROM:+0100
TZOFFSETTO:+0200
TZNAME:CEST
DTSTART:20260329T010000
END:DAYLIGHT
BEGIN:STANDARD
TZOFFSETFROM:+0200
TZOFFSETTO:+0100
TZNAME:CET
DTSTART:20261025T010000
END:STANDARD
END:VTIMEZONE
BEGIN:VEVENT
DTSTART;TZID=Europe/Paris:20250522T190000
DTEND;TZID=Europe/Paris:20250522T220000
DTSTAMP:20260420T095748
CREATED:20250303T102130Z
LAST-MODIFIED:20250511T103210Z
UID:8536-1747940400-1747951200@cms.joinusgruppentreffen.eu
SUMMARY:Essen im Sudhaus in Pfaffenhofen
DESCRIPTION:🍻 Genuss & Geselligkeit – Gemeinsam essen & neue Leute kennenlernen! 🍽️\nDu liebst gutes Essen\, gesellige Runden und möchtest neue Leute in entspannter Atmosphäre kennenlernen? Dann sei dabei\, wenn wir uns im Sudhaus zum gemeinsamen Essen treffen! Hier erwartet dich ein Abend voller leckeren Spezialitäten\, spannender Gespräche und neuer Bekanntschaften. \nWarum solltest du dabei sein?\n✔ Neue Leute treffen – Ganz ungezwungen mit anderen ins Gespräch kommen✔ Gesellige Atmosphäre – Traditionelle Brauhaus-Stimmung und gute Laune garantiert✔ Leckeres Essen & kühle Getränke – Genieße regionale Spezialitäten & frisch gebrautes Bier 🍻✔ Gemeinsames Erlebnis – Essen verbindet\, und neue Freundschaften entstehen ganz nebenbei!✔ Ideal für Allein- oder Gruppenteilnahme – Ob du alleine kommst oder Freunde mitbringst\, du wirst schnell Anschluss finden
URL:https://cms.joinusgruppentreffen.eu/event/essen-im-sudhaus-in-pfaffenhofen/
LOCATION:Sudhaus Pfaffenhofen\, Hauptplatz 38\, Pfaffenhofen\, 85276
CATEGORIES:Essen,Kultur
ATTACH;FMTTYPE=image/jpeg:https://cms.joinusgruppentreffen.eu/wp-content/uploads/2025/03/Sudhaus.jpg
ORGANIZER;CN="Bettina Bergmann":MAILTO:bettina@joinusgruppentreffen.eu
END:VEVENT
END:VCALENDAR