BEGIN:VCALENDAR
VERSION:2.0
PRODID:-//JoinUs Gruppentreffen - ECPv6.15.20//NONSGML v1.0//EN
CALSCALE:GREGORIAN
METHOD:PUBLISH
X-WR-CALNAME:JoinUs Gruppentreffen
X-ORIGINAL-URL:https://cms.joinusgruppentreffen.eu
X-WR-CALDESC:Veranstaltungen für JoinUs Gruppentreffen
REFRESH-INTERVAL;VALUE=DURATION:PT1H
X-Robots-Tag:noindex
X-PUBLISHED-TTL:PT1H
BEGIN:VTIMEZONE
TZID:Europe/Paris
BEGIN:DAYLIGHT
TZOFFSETFROM:+0100
TZOFFSETTO:+0200
TZNAME:CEST
DTSTART:20240331T010000
END:DAYLIGHT
BEGIN:STANDARD
TZOFFSETFROM:+0200
TZOFFSETTO:+0100
TZNAME:CET
DTSTART:20241027T010000
END:STANDARD
BEGIN:DAYLIGHT
TZOFFSETFROM:+0100
TZOFFSETTO:+0200
TZNAME:CEST
DTSTART:20250330T010000
END:DAYLIGHT
BEGIN:STANDARD
TZOFFSETFROM:+0200
TZOFFSETTO:+0100
TZNAME:CET
DTSTART:20251026T010000
END:STANDARD
BEGIN:DAYLIGHT
TZOFFSETFROM:+0100
TZOFFSETTO:+0200
TZNAME:CEST
DTSTART:20260329T010000
END:DAYLIGHT
BEGIN:STANDARD
TZOFFSETFROM:+0200
TZOFFSETTO:+0100
TZNAME:CET
DTSTART:20261025T010000
END:STANDARD
END:VTIMEZONE
BEGIN:VEVENT
DTSTART;TZID=Europe/Paris:20250525T140000
DTEND;TZID=Europe/Paris:20250525T170000
DTSTAMP:20260420T095444
CREATED:20250513T081715Z
LAST-MODIFIED:20250520T180256Z
UID:9159-1748181600-1748192400@cms.joinusgruppentreffen.eu
SUMMARY:Spielplatz Treffen in Pfaffenhofen
DESCRIPTION:👨‍👩‍👧‍👦 Eltern-Kind-Treffen in Pfaffenhofen – Kaffee für die Großen\, Spielspaß für die Kleinen\nDu möchtest andere Eltern aus Pfaffenhofen kennenlernen\, während Dein Kind sich auf dem Spielplatz austobt? Dann komm zu unserem entspannten Eltern-Kind-Treffen! \nIn lockerer Atmosphäre bei einer Tasse Kaffee kannst Du Dich mit anderen Müttern und Vätern austauschen\, neue Kontakte knüpfen und Erfahrungen teilen. Währenddessen haben die Kin: der jede Menge Platz zum Spielen\, Toben und Freundschaften schließen. \n🗓 Datum: 25.05.2025🕒 Uhrzeit: 14 Uhr \nDas erwartet Dich: \n\n\nGemütliches Eltern-Café unter freiem Himmel \n\n\nSpielplatz direkt daneben – ideal für Kinder jeden Alters \n\n\nAustausch\, Tipps und neue Bekanntschaften \n\n\nOffene\, freundliche Atmosphäre für Groß und Klein \n\n\n☕️ Für alle Eltern aus Pfaffenhofen und Umgebung\, die sich vernetzen und eine schöne Zeit mit ihren Kindern verbringen möchten. \nDu kannst spontan vorbeischauen oder Dich kurz anmelden.
URL:https://cms.joinusgruppentreffen.eu/event/spielplatz-treffen-in-pfaffenhofen/
LOCATION:Wiesender beim Krankenhaus\, Michael-Weingartner-Str. 2\, Pfaffenhofen\, 85276
CATEGORIES:Essen,Outdoor
ATTACH;FMTTYPE=image/jpeg:https://cms.joinusgruppentreffen.eu/wp-content/uploads/2024/04/Spielplatz-scaled.jpg
ORGANIZER;CN="Bettina Bergmann":MAILTO:bettina@joinusgruppentreffen.eu
END:VEVENT
END:VCALENDAR