BEGIN:VCALENDAR
VERSION:2.0
PRODID:-//JoinUs Gruppentreffen - ECPv6.15.20//NONSGML v1.0//EN
CALSCALE:GREGORIAN
METHOD:PUBLISH
X-ORIGINAL-URL:https://cms.joinusgruppentreffen.eu
X-WR-CALDESC:Veranstaltungen für JoinUs Gruppentreffen
REFRESH-INTERVAL;VALUE=DURATION:PT1H
X-Robots-Tag:noindex
X-PUBLISHED-TTL:PT1H
BEGIN:VTIMEZONE
TZID:Europe/Paris
BEGIN:DAYLIGHT
TZOFFSETFROM:+0100
TZOFFSETTO:+0200
TZNAME:CEST
DTSTART:20240331T010000
END:DAYLIGHT
BEGIN:STANDARD
TZOFFSETFROM:+0200
TZOFFSETTO:+0100
TZNAME:CET
DTSTART:20241027T010000
END:STANDARD
BEGIN:DAYLIGHT
TZOFFSETFROM:+0100
TZOFFSETTO:+0200
TZNAME:CEST
DTSTART:20250330T010000
END:DAYLIGHT
BEGIN:STANDARD
TZOFFSETFROM:+0200
TZOFFSETTO:+0100
TZNAME:CET
DTSTART:20251026T010000
END:STANDARD
BEGIN:DAYLIGHT
TZOFFSETFROM:+0100
TZOFFSETTO:+0200
TZNAME:CEST
DTSTART:20260329T010000
END:DAYLIGHT
BEGIN:STANDARD
TZOFFSETFROM:+0200
TZOFFSETTO:+0100
TZNAME:CET
DTSTART:20261025T010000
END:STANDARD
END:VTIMEZONE
BEGIN:VEVENT
DTSTART;TZID=Europe/Paris:20250529T170000
DTEND;TZID=Europe/Paris:20250529T220000
DTSTAMP:20260420T084130
CREATED:20250517T080821Z
LAST-MODIFIED:20250528T063832Z
UID:9183-1748538000-1748556000@cms.joinusgruppentreffen.eu
SUMMARY:Italiener in Pfaffenhofen
DESCRIPTION:🍝 Neue Leute kennenlernen beim Italiener in Pfaffenhofen 🍷 \nDu hast Lust\, neue Gesichter kennenzulernen\, interessante Gespräche zu führen und dabei leckeres italienisches Essen zu genießen? Dann bist du bei unserem gemütlichen Kennenlern-Abend genau richtig! \nWann: 29.05.2025Wo: Da Nuccio in PfaffenhofenWer: Alle\, die offen\, neugierig und kontaktfreudig sind – ob neu in der Stadt oder einfach in Plauderlaune. \nIn lockerer Atmosphäre treffen wir uns in einem authentischen italienischen Restaurant im Herzen von Pfaffenhofen. Bei Pizza\, Pasta und einem Glas Wein fällt das Kennenlernen ganz leicht. Ob du alleine kommst oder jemanden mitbringst – du bist herzlich willkommen! \nAblauf: \n\n\nBegrüßung & Ankommen \n\n\nGemeinsames Essen in kleiner\, wechselnder Tischrunde \n\n\nZeit für Gespräche\, Lachen und vielleicht neue Freundschaften
URL:https://cms.joinusgruppentreffen.eu/event/after-work-in-pfaffenhofen/
LOCATION:Da Nuccio\, Raiffeisenstr. 14\, Pfaffenhofen\, 85276
CATEGORIES:Essen
ATTACH;FMTTYPE=image/jpeg:https://cms.joinusgruppentreffen.eu/wp-content/uploads/2024/04/Italiener-scaled.jpg
ORGANIZER;CN="Bettina Bergmann":MAILTO:bettina@joinusgruppentreffen.eu
END:VEVENT
END:VCALENDAR