BEGIN:VCALENDAR
VERSION:2.0
PRODID:-//JoinUs Gruppentreffen - ECPv6.15.20//NONSGML v1.0//EN
CALSCALE:GREGORIAN
METHOD:PUBLISH
X-ORIGINAL-URL:https://cms.joinusgruppentreffen.eu
X-WR-CALDESC:Veranstaltungen für JoinUs Gruppentreffen
REFRESH-INTERVAL;VALUE=DURATION:PT1H
X-Robots-Tag:noindex
X-PUBLISHED-TTL:PT1H
BEGIN:VTIMEZONE
TZID:Europe/Paris
BEGIN:DAYLIGHT
TZOFFSETFROM:+0100
TZOFFSETTO:+0200
TZNAME:CEST
DTSTART:20240331T010000
END:DAYLIGHT
BEGIN:STANDARD
TZOFFSETFROM:+0200
TZOFFSETTO:+0100
TZNAME:CET
DTSTART:20241027T010000
END:STANDARD
BEGIN:DAYLIGHT
TZOFFSETFROM:+0100
TZOFFSETTO:+0200
TZNAME:CEST
DTSTART:20250330T010000
END:DAYLIGHT
BEGIN:STANDARD
TZOFFSETFROM:+0200
TZOFFSETTO:+0100
TZNAME:CET
DTSTART:20251026T010000
END:STANDARD
BEGIN:DAYLIGHT
TZOFFSETFROM:+0100
TZOFFSETTO:+0200
TZNAME:CEST
DTSTART:20260329T010000
END:DAYLIGHT
BEGIN:STANDARD
TZOFFSETFROM:+0200
TZOFFSETTO:+0100
TZNAME:CET
DTSTART:20261025T010000
END:STANDARD
END:VTIMEZONE
BEGIN:VEVENT
DTSTART;TZID=Europe/Paris:20250601T140000
DTEND;TZID=Europe/Paris:20250601T170000
DTSTAMP:20260420T083021
CREATED:20250525T145816Z
LAST-MODIFIED:20250528T120420Z
UID:9243-1748786400-1748797200@cms.joinusgruppentreffen.eu
SUMMARY:Spielplatz Treffen in Pfaffenhofen
DESCRIPTION:Während die Erwachsenen gemütlich im Biergarten sitzen und sich kennenlernen können\, toben sich die Kids auf dem Spielplatz aus und finden dort auch neuen Anschluss – Eine Win-Win Situation \nGerne auch ohne Kinder kommen 🙂 \nEltern haften für ihre Kinder \nKinder dürfen nur in Begleitung eines Erziehungsberechtigten teilnehmen
URL:https://cms.joinusgruppentreffen.eu/event/spielplatz-treffen-in-pfaffenhofen-2/
LOCATION:Bürgerpark\, Weiherer Str. 16\, Pfaffenhofen\, 85276
CATEGORIES:Essen,Outdoor
ATTACH;FMTTYPE=image/jpeg:https://cms.joinusgruppentreffen.eu/wp-content/uploads/2024/04/Spielplatz-scaled.jpg
ORGANIZER;CN="Bettina Bergmann":MAILTO:bettina@joinusgruppentreffen.eu
END:VEVENT
END:VCALENDAR