BEGIN:VCALENDAR
VERSION:2.0
PRODID:-//JoinUs Gruppentreffen - ECPv6.15.20//NONSGML v1.0//EN
CALSCALE:GREGORIAN
METHOD:PUBLISH
X-WR-CALNAME:JoinUs Gruppentreffen
X-ORIGINAL-URL:https://cms.joinusgruppentreffen.eu
X-WR-CALDESC:Veranstaltungen für JoinUs Gruppentreffen
REFRESH-INTERVAL;VALUE=DURATION:PT1H
X-Robots-Tag:noindex
X-PUBLISHED-TTL:PT1H
BEGIN:VTIMEZONE
TZID:Europe/Paris
BEGIN:DAYLIGHT
TZOFFSETFROM:+0100
TZOFFSETTO:+0200
TZNAME:CEST
DTSTART:20240331T010000
END:DAYLIGHT
BEGIN:STANDARD
TZOFFSETFROM:+0200
TZOFFSETTO:+0100
TZNAME:CET
DTSTART:20241027T010000
END:STANDARD
BEGIN:DAYLIGHT
TZOFFSETFROM:+0100
TZOFFSETTO:+0200
TZNAME:CEST
DTSTART:20250330T010000
END:DAYLIGHT
BEGIN:STANDARD
TZOFFSETFROM:+0200
TZOFFSETTO:+0100
TZNAME:CET
DTSTART:20251026T010000
END:STANDARD
BEGIN:DAYLIGHT
TZOFFSETFROM:+0100
TZOFFSETTO:+0200
TZNAME:CEST
DTSTART:20260329T010000
END:DAYLIGHT
BEGIN:STANDARD
TZOFFSETFROM:+0200
TZOFFSETTO:+0100
TZNAME:CET
DTSTART:20261025T010000
END:STANDARD
END:VTIMEZONE
BEGIN:VEVENT
DTSTART;TZID=Europe/Paris:20250629T150000
DTEND;TZID=Europe/Paris:20250630T190000
DTSTAMP:20260420T071234
CREATED:20250611T061908Z
LAST-MODIFIED:20250618T200030Z
UID:9434-1751209200-1751310000@cms.joinusgruppentreffen.eu
SUMMARY:Fischerfest der Fischerfreunde Neufahrn e.V.
DESCRIPTION:
URL:https://cms.joinusgruppentreffen.eu/event/fischerfest-der-fischerfreunde-neufahrn-e-v/
LOCATION:Volksfestplatz Neufahrn\, Kurt-Kittel-Ring\, Neufahrn bei Freising\, 85375
CATEGORIES:Kultur,Outdoor
ATTACH;FMTTYPE=image/jpeg:https://cms.joinusgruppentreffen.eu/wp-content/uploads/2025/06/Fischerfest-Neufahrn.jpeg
ORGANIZER;CN="Bettina Bergmann":MAILTO:bettina@joinusgruppentreffen.eu
END:VEVENT
BEGIN:VEVENT
DTSTART;TZID=Europe/Paris:20250630T190000
DTEND;TZID=Europe/Paris:20250630T220000
DTSTAMP:20260420T071234
CREATED:20250507T195409Z
LAST-MODIFIED:20250630T105031Z
UID:9116-1751310000-1751320800@cms.joinusgruppentreffen.eu
SUMMARY:Treffen beim Sokrates (Grieche) in Niederscheyern
DESCRIPTION:Aufgrund des Wetters haben wir das Darten verschoben\, im Sokrates ist es schön klimatisiert
URL:https://cms.joinusgruppentreffen.eu/event/schnuppertraining-beim-darten-in-pfaffenhofen/
LOCATION:Sokrates Niederscheyern\, Niederscheyerer Str. 94\, Pfaffenhofen\, 85276
CATEGORIES:Sport
ATTACH;FMTTYPE=image/jpeg:https://cms.joinusgruppentreffen.eu/wp-content/uploads/2024/08/Grieche-Niederscheyern.jpg
ORGANIZER;CN="Bettina Bergmann":MAILTO:bettina@joinusgruppentreffen.eu
END:VEVENT
END:VCALENDAR