BEGIN:VCALENDAR
VERSION:2.0
PRODID:-//JoinUs Gruppentreffen - ECPv6.15.20//NONSGML v1.0//EN
CALSCALE:GREGORIAN
METHOD:PUBLISH
X-WR-CALNAME:JoinUs Gruppentreffen
X-ORIGINAL-URL:https://cms.joinusgruppentreffen.eu
X-WR-CALDESC:Veranstaltungen für JoinUs Gruppentreffen
REFRESH-INTERVAL;VALUE=DURATION:PT1H
X-Robots-Tag:noindex
X-PUBLISHED-TTL:PT1H
BEGIN:VTIMEZONE
TZID:Europe/Paris
BEGIN:DAYLIGHT
TZOFFSETFROM:+0100
TZOFFSETTO:+0200
TZNAME:CEST
DTSTART:20240331T010000
END:DAYLIGHT
BEGIN:STANDARD
TZOFFSETFROM:+0200
TZOFFSETTO:+0100
TZNAME:CET
DTSTART:20241027T010000
END:STANDARD
BEGIN:DAYLIGHT
TZOFFSETFROM:+0100
TZOFFSETTO:+0200
TZNAME:CEST
DTSTART:20250330T010000
END:DAYLIGHT
BEGIN:STANDARD
TZOFFSETFROM:+0200
TZOFFSETTO:+0100
TZNAME:CET
DTSTART:20251026T010000
END:STANDARD
BEGIN:DAYLIGHT
TZOFFSETFROM:+0100
TZOFFSETTO:+0200
TZNAME:CEST
DTSTART:20260329T010000
END:DAYLIGHT
BEGIN:STANDARD
TZOFFSETFROM:+0200
TZOFFSETTO:+0100
TZNAME:CET
DTSTART:20261025T010000
END:STANDARD
END:VTIMEZONE
BEGIN:VEVENT
DTSTART;TZID=Europe/Paris:20250703T193000
DTEND;TZID=Europe/Paris:20250703T230000
DTSTAMP:20260420T071953
CREATED:20250608T160535Z
LAST-MODIFIED:20250608T163404Z
UID:9402-1751571000-1751583600@cms.joinusgruppentreffen.eu
SUMMARY:Stammtisch in Schweitenkirchen
DESCRIPTION:🍻 Du hast Lust auf gute Gespräche\, neue Kontakte und gesellige Abende in entspannter Atmosphäre? Dann komm zum offenen Stammtisch in Schweitenkirchen! Egal ob alt eingesessen oder neu zugezogen – hier ist jede:r willkommen\, der sich gern mit anderen austauscht. \n📍 Ort: Vheim Schweitenkirchen\, Leithöhe 1🗓️ Wann: Jeden ersten Donnerstag im Monat ab 19 Uhr💬 Teilnahme: Offen & unverbindlich – einfach vorbeischauen!🍽️ Verpflegung: Speisen & Getränke auf eigene Rechnung \nWas dich erwartet: \n\n\nGemütliches Beisammensein in lockerer Runde \n\n\nOffene Gespräche über Gott und die Welt – kein festes Programm \n\n\nKontakte knüpfen mit Menschen aus Schweitenkirchen und Umgebung \n\n\nIdeal für alle Altersgruppen\, Berufsfelder & Interessen \n\n\nOb du neu in der Gemeinde bist\, Anschluss suchst oder einfach einen schönen Abend verbringen willst – unser Stammtisch ist der perfekte Treffpunkt für echte Begegnungen.
URL:https://cms.joinusgruppentreffen.eu/event/stammtisch-in-schweitenkirchen/
LOCATION:Vheim Schweitenkirchen\, Leithöhe 1\, Schweitenkirchen\, 85301
CATEGORIES:Essen
ATTACH;FMTTYPE=image/jpeg:https://cms.joinusgruppentreffen.eu/wp-content/uploads/2024/12/Schnitzel.jpg
ORGANIZER;CN="Bettina Bergmann":MAILTO:bettina@joinusgruppentreffen.eu
END:VEVENT
END:VCALENDAR