BEGIN:VCALENDAR
VERSION:2.0
PRODID:-//JoinUs Gruppentreffen - ECPv6.15.20//NONSGML v1.0//EN
CALSCALE:GREGORIAN
METHOD:PUBLISH
X-ORIGINAL-URL:https://cms.joinusgruppentreffen.eu
X-WR-CALDESC:Veranstaltungen für JoinUs Gruppentreffen
REFRESH-INTERVAL;VALUE=DURATION:PT1H
X-Robots-Tag:noindex
X-PUBLISHED-TTL:PT1H
BEGIN:VTIMEZONE
TZID:Europe/Paris
BEGIN:DAYLIGHT
TZOFFSETFROM:+0100
TZOFFSETTO:+0200
TZNAME:CEST
DTSTART:20240331T010000
END:DAYLIGHT
BEGIN:STANDARD
TZOFFSETFROM:+0200
TZOFFSETTO:+0100
TZNAME:CET
DTSTART:20241027T010000
END:STANDARD
BEGIN:DAYLIGHT
TZOFFSETFROM:+0100
TZOFFSETTO:+0200
TZNAME:CEST
DTSTART:20250330T010000
END:DAYLIGHT
BEGIN:STANDARD
TZOFFSETFROM:+0200
TZOFFSETTO:+0100
TZNAME:CET
DTSTART:20251026T010000
END:STANDARD
BEGIN:DAYLIGHT
TZOFFSETFROM:+0100
TZOFFSETTO:+0200
TZNAME:CEST
DTSTART:20260329T010000
END:DAYLIGHT
BEGIN:STANDARD
TZOFFSETFROM:+0200
TZOFFSETTO:+0100
TZNAME:CET
DTSTART:20261025T010000
END:STANDARD
END:VTIMEZONE
BEGIN:VEVENT
DTSTART;TZID=Europe/Paris:20250807T180000
DTEND;TZID=Europe/Paris:20250807T220000
DTSTAMP:20260420T060103
CREATED:20250802T132347Z
LAST-MODIFIED:20250803T121409Z
UID:9749-1754589600-1754604000@cms.joinusgruppentreffen.eu
SUMMARY:Spieleabend in Schrobenhausen
DESCRIPTION:Lust auf einen geselligen Abend voller Spaß\, Strategie und spannender Spiele? Dann bist du beim offenen Brettspielabend in Schrobenhausen genau richtig! Jeden 2. Donnerstag treffen sich hier Spielbegeisterte jeden Alters\, um gemeinsam Klassiker\, moderne Brettspiele und spannende Kartenspiele auszuprobieren. \nEgal ob du ein erfahrener Spieler bist oder einfach neugierig auf neue Spiele – bei uns ist jeder willkommen. Wir stellen eine große Auswahl an Brettspielen zur Verfügung\, du kannst aber auch gerne eigene Spiele mitbringen. In lockerer Atmosphäre lernst du neue Leute aus Schrobenhausen und Umgebung kennen und entdeckst vielleicht dein neues Lieblingsspiel.
URL:https://cms.joinusgruppentreffen.eu/event/spieleabend-in-schrobenhausen-6/
LOCATION:Saitenlage Schrobenhausen\, Lenbachstr. 24\, Schrobenhausen\, 86529\, Germany
CATEGORIES:Brettspiele,Essen,Kartenspiele
ATTACH;FMTTYPE=image/jpeg:https://cms.joinusgruppentreffen.eu/wp-content/uploads/2024/04/Brettspiele-scaled.jpg
ORGANIZER;CN="Bettina Bergmann":MAILTO:bettina@joinusgruppentreffen.eu
END:VEVENT
END:VCALENDAR