BEGIN:VCALENDAR
VERSION:2.0
PRODID:-//JoinUs Gruppentreffen - ECPv6.15.20//NONSGML v1.0//EN
CALSCALE:GREGORIAN
METHOD:PUBLISH
X-WR-CALNAME:JoinUs Gruppentreffen
X-ORIGINAL-URL:https://cms.joinusgruppentreffen.eu
X-WR-CALDESC:Veranstaltungen für JoinUs Gruppentreffen
REFRESH-INTERVAL;VALUE=DURATION:PT1H
X-Robots-Tag:noindex
X-PUBLISHED-TTL:PT1H
BEGIN:VTIMEZONE
TZID:Europe/Paris
BEGIN:DAYLIGHT
TZOFFSETFROM:+0100
TZOFFSETTO:+0200
TZNAME:CEST
DTSTART:20240331T010000
END:DAYLIGHT
BEGIN:STANDARD
TZOFFSETFROM:+0200
TZOFFSETTO:+0100
TZNAME:CET
DTSTART:20241027T010000
END:STANDARD
BEGIN:DAYLIGHT
TZOFFSETFROM:+0100
TZOFFSETTO:+0200
TZNAME:CEST
DTSTART:20250330T010000
END:DAYLIGHT
BEGIN:STANDARD
TZOFFSETFROM:+0200
TZOFFSETTO:+0100
TZNAME:CET
DTSTART:20251026T010000
END:STANDARD
BEGIN:DAYLIGHT
TZOFFSETFROM:+0100
TZOFFSETTO:+0200
TZNAME:CEST
DTSTART:20260329T010000
END:DAYLIGHT
BEGIN:STANDARD
TZOFFSETFROM:+0200
TZOFFSETTO:+0100
TZNAME:CET
DTSTART:20261025T010000
END:STANDARD
END:VTIMEZONE
BEGIN:VEVENT
DTSTART;TZID=Europe/Paris:20250809T120000
DTEND;TZID=Europe/Paris:20250809T160000
DTSTAMP:20260420T055802
CREATED:20250603T101139Z
LAST-MODIFIED:20250808T131616Z
UID:9330-1754740800-1754755200@cms.joinusgruppentreffen.eu
SUMMARY:Fahrradtour bei Wolnzach mit anschließendem Essen
DESCRIPTION:🚴‍♀️ Raus aus dem Alltag\, rauf aufs Rad! Erlebe eine entspannte Fahrradtour durch die wunderschöne Hallertauer Landschaft rund um Wolnzach\, gefolgt von einem wohlverdienten Essen im beliebten Gasthaus Zum Grantlerwirt. \n📍 Startpunkt: Parkplatz beim Hopfenmuseum🗓️ Wann: Sonntag\, 09.08.25 Start: 12 Uhr📏 Strecke: ca. 15 km 💸 Teilnahme kostenlos – Verpflegung auf eigene Kosten \nWas dich erwartet: \n\n\nGemütliche Rundtour mit dem Rad durch Hopfengärten\, Felder & kleine Dörfer \n\n\nIdeal für Familien\, Paare\, Freunde oder Einzelradler \n\n\nKurze Pausen für Fotos & Plausch unterwegs \n\n\nGemeinsamer Abschluss beim Grantlerwirt mit regionaler Küche & Biergarten-Feeling \n\n\n🍽️ Der Grantlerwirt in Wolnzach verwöhnt euch mit bayerischen Schmankerln\, saisonalen Gerichten und einer urigen Atmosphäre – perfekt zum Runterkommen nach der Tour.
URL:https://cms.joinusgruppentreffen.eu/event/fahrradtour-bei-wolnzach/
LOCATION:Hopfenmuseum\, Elsenheimerstr. 2\, Wolnzach\, 85283\, Deutschland
CATEGORIES:Sport
ATTACH;FMTTYPE=image/jpeg:https://cms.joinusgruppentreffen.eu/wp-content/uploads/2025/06/Fahrradtour.jpg
ORGANIZER;CN="Bettina Bergmann":MAILTO:bettina@joinusgruppentreffen.eu
END:VEVENT
END:VCALENDAR