BEGIN:VCALENDAR
VERSION:2.0
PRODID:-//JoinUs Gruppentreffen - ECPv6.15.20//NONSGML v1.0//EN
CALSCALE:GREGORIAN
METHOD:PUBLISH
X-WR-CALNAME:JoinUs Gruppentreffen
X-ORIGINAL-URL:https://cms.joinusgruppentreffen.eu
X-WR-CALDESC:Veranstaltungen für JoinUs Gruppentreffen
REFRESH-INTERVAL;VALUE=DURATION:PT1H
X-Robots-Tag:noindex
X-PUBLISHED-TTL:PT1H
BEGIN:VTIMEZONE
TZID:Europe/Paris
BEGIN:DAYLIGHT
TZOFFSETFROM:+0100
TZOFFSETTO:+0200
TZNAME:CEST
DTSTART:20240331T010000
END:DAYLIGHT
BEGIN:STANDARD
TZOFFSETFROM:+0200
TZOFFSETTO:+0100
TZNAME:CET
DTSTART:20241027T010000
END:STANDARD
BEGIN:DAYLIGHT
TZOFFSETFROM:+0100
TZOFFSETTO:+0200
TZNAME:CEST
DTSTART:20250330T010000
END:DAYLIGHT
BEGIN:STANDARD
TZOFFSETFROM:+0200
TZOFFSETTO:+0100
TZNAME:CET
DTSTART:20251026T010000
END:STANDARD
BEGIN:DAYLIGHT
TZOFFSETFROM:+0100
TZOFFSETTO:+0200
TZNAME:CEST
DTSTART:20260329T010000
END:DAYLIGHT
BEGIN:STANDARD
TZOFFSETFROM:+0200
TZOFFSETTO:+0100
TZNAME:CET
DTSTART:20261025T010000
END:STANDARD
END:VTIMEZONE
BEGIN:VEVENT
DTSTART;TZID=Europe/Paris:20250823T143000
DTEND;TZID=Europe/Paris:20250823T220000
DTSTAMP:20260420T055636
CREATED:20250802T120416Z
LAST-MODIFIED:20250818T170953Z
UID:9743-1755959400-1755986400@cms.joinusgruppentreffen.eu
SUMMARY:Schnupperkurs Bogenschießen in Reichertshausen mit anschließendem Grillen
DESCRIPTION:Hallo zusammen!\nNachdem das Bogenschießen bei der Abstimmung die meisten Stimmen hatte\, gibt es nun die VA dazu! Genauer gesagt\, die erste von zwei\, da es zu viele Interessenten für eine einzige VA sind…\nDie erste VA für max. 12 – 13 Teilnehmer ist nun geplant für Samstag\, den 23.08.2025.\nGeplanter Ablauf:\n– Beginn um 15 Uhr– Einführung ins Bogenschießen\, wahlweise* Blankbogen (ohne Visier\, mit modernem Bogen) oder* olympischer Recurvebogen (mit Visier)– Ausrüstung wird vom Verein zur Verfügung gestellt– Ende gegen 17 Uhr\, je nach Lust und Laune darf auch gerneverlängert werden– Anschließend gemütliches Zusammensein beim Grillen an unsererBogenhütte\, mit Open End\nGrillgut wird gestellt\, daher fällt ein Unkostenbeitrag in Höhe von 20\,00 Euro an.\nBitte Teller und Besteck selbst mitnehmen
URL:https://cms.joinusgruppentreffen.eu/event/schnupperkurs-bogenschiessen-in-reichertshausen-mit-anschliessendem-grillen/
LOCATION:Schützenverein Drei Buchen Reichertshausen\, Kammererberg 21\, Reichertshausen\, 85293
CATEGORIES:Essen,Sport
ATTACH;FMTTYPE=image/jpeg:https://cms.joinusgruppentreffen.eu/wp-content/uploads/2025/04/Bogenschiessen.jpg
ORGANIZER;CN="Bettina Bergmann":MAILTO:bettina@joinusgruppentreffen.eu
END:VEVENT
END:VCALENDAR