BEGIN:VCALENDAR
VERSION:2.0
PRODID:-//JoinUs Gruppentreffen - ECPv6.15.20//NONSGML v1.0//EN
CALSCALE:GREGORIAN
METHOD:PUBLISH
X-ORIGINAL-URL:https://cms.joinusgruppentreffen.eu
X-WR-CALDESC:Veranstaltungen für JoinUs Gruppentreffen
REFRESH-INTERVAL;VALUE=DURATION:PT1H
X-Robots-Tag:noindex
X-PUBLISHED-TTL:PT1H
BEGIN:VTIMEZONE
TZID:Europe/Paris
BEGIN:DAYLIGHT
TZOFFSETFROM:+0100
TZOFFSETTO:+0200
TZNAME:CEST
DTSTART:20240331T010000
END:DAYLIGHT
BEGIN:STANDARD
TZOFFSETFROM:+0200
TZOFFSETTO:+0100
TZNAME:CET
DTSTART:20241027T010000
END:STANDARD
BEGIN:DAYLIGHT
TZOFFSETFROM:+0100
TZOFFSETTO:+0200
TZNAME:CEST
DTSTART:20250330T010000
END:DAYLIGHT
BEGIN:STANDARD
TZOFFSETFROM:+0200
TZOFFSETTO:+0100
TZNAME:CET
DTSTART:20251026T010000
END:STANDARD
BEGIN:DAYLIGHT
TZOFFSETFROM:+0100
TZOFFSETTO:+0200
TZNAME:CEST
DTSTART:20260329T010000
END:DAYLIGHT
BEGIN:STANDARD
TZOFFSETFROM:+0200
TZOFFSETTO:+0100
TZNAME:CET
DTSTART:20261025T010000
END:STANDARD
END:VTIMEZONE
BEGIN:VEVENT
DTSTART;TZID=Europe/Paris:20250824T100000
DTEND;TZID=Europe/Paris:20250824T130000
DTSTAMP:20260420T060046
CREATED:20250729T183518Z
LAST-MODIFIED:20250807T084647Z
UID:9666-1756029600-1756040400@cms.joinusgruppentreffen.eu
SUMMARY:Frühstück in Freising
DESCRIPTION:Starte den Tag in guter Gesellschaft beim offenen Frühstück in Freising! Wir treffen uns in einem gemütlichen Café\, um gemeinsam zu frühstücken\, zu plaudern und neue Kontakte zu knüpfen. \nBei uns ist jeder willkommen – egal ob du neu in Freising bist\, schon lange hier lebst oder einfach Lust auf ein geselliges Frühstück hast. Die Speisekarte des Restaurants bietet eine große Auswahl: von frischen Brötchen und Croissants über herzhafte Eierspeisen bis hin zu gesunden Bowls\, Müsli und frischem Obst. Kaffee\, Tee und Säfte runden das Angebot ab. \nDas offene Frühstück ist eine ideale Gelegenheit\, Menschen aus Freising und Umgebung kennenzulernen\, interessante Gespräche zu führen und den Morgen in angenehmer Atmosphäre zu genießen. \n📅 Einfach vorbeikommen\, gemeinsam essen und den Tag gut beginnen – wir freuen uns auf dich!
URL:https://cms.joinusgruppentreffen.eu/event/fruehstueck-in-freising-10/
LOCATION:Parkcafé Freising\, Am Wörh 23\, Freising\, 85354
CATEGORIES:Essen
ATTACH;FMTTYPE=image/jpeg:https://cms.joinusgruppentreffen.eu/wp-content/uploads/2025/07/Fruehstuecksbuffet.jpg
ORGANIZER;CN="Bettina Bergmann":MAILTO:bettina@joinusgruppentreffen.eu
END:VEVENT
END:VCALENDAR