BEGIN:VCALENDAR
VERSION:2.0
PRODID:-//JoinUs Gruppentreffen - ECPv6.15.20//NONSGML v1.0//EN
CALSCALE:GREGORIAN
METHOD:PUBLISH
X-ORIGINAL-URL:https://cms.joinusgruppentreffen.eu
X-WR-CALDESC:Veranstaltungen für JoinUs Gruppentreffen
REFRESH-INTERVAL;VALUE=DURATION:PT1H
X-Robots-Tag:noindex
X-PUBLISHED-TTL:PT1H
BEGIN:VTIMEZONE
TZID:Europe/Paris
BEGIN:DAYLIGHT
TZOFFSETFROM:+0100
TZOFFSETTO:+0200
TZNAME:CEST
DTSTART:20240331T010000
END:DAYLIGHT
BEGIN:STANDARD
TZOFFSETFROM:+0200
TZOFFSETTO:+0100
TZNAME:CET
DTSTART:20241027T010000
END:STANDARD
BEGIN:DAYLIGHT
TZOFFSETFROM:+0100
TZOFFSETTO:+0200
TZNAME:CEST
DTSTART:20250330T010000
END:DAYLIGHT
BEGIN:STANDARD
TZOFFSETFROM:+0200
TZOFFSETTO:+0100
TZNAME:CET
DTSTART:20251026T010000
END:STANDARD
BEGIN:DAYLIGHT
TZOFFSETFROM:+0100
TZOFFSETTO:+0200
TZNAME:CEST
DTSTART:20260329T010000
END:DAYLIGHT
BEGIN:STANDARD
TZOFFSETFROM:+0200
TZOFFSETTO:+0100
TZNAME:CET
DTSTART:20261025T010000
END:STANDARD
END:VTIMEZONE
BEGIN:VEVENT
DTSTART;TZID=Europe/Paris:20250913T103000
DTEND;TZID=Europe/Paris:20250913T170000
DTSTAMP:20260420T044239
CREATED:20250801T064421Z
LAST-MODIFIED:20250801T064421Z
UID:9718-1757759400-1757782800@cms.joinusgruppentreffen.eu
SUMMARY:Schafkopfturnier in Freising
DESCRIPTION:1. Preis: 700€\n2. Preis: 300€\n3. Preis: 100€\nsowie Spezialwertung Nachwuchs U30 und Beste Dame! (Preiswert ca. 50-100€) \nAnmeldung ab 10:00 Uhr\nFür schöne Sach- und Verzehrpreisen wird gesorgt.\nzahlreiche Sach- und Verzehrpreise\nBitte Parkmöglichkeiten beachten: \nSaturn Elektrofachhandel:\n350m (5 min Gehzeit) \nSchützenheim Freising (FSG Freising):\n550m (7 min Gehzeit) \nAgentur für Arbeit Freising:\n400m (5 min Gehzeit) \nnotfalls P+R am Bahnhof:\n1000m (15 min Gehzeit)\n015739678208\nlanges Blatt\, mit Solo\, Wenz und Farbwenz Plus Minus Punkte
URL:https://cms.joinusgruppentreffen.eu/event/schafkopfturnier-in-freising/
LOCATION:Volksfestplatz Freising\, Luitpoldstr. 1\, Freising\, 85356\, Deutschland
CATEGORIES:Essen,Kartenspiele
ATTACH;FMTTYPE=image/jpeg:https://cms.joinusgruppentreffen.eu/wp-content/uploads/2025/08/Schafkopfen-Uebrig.jpg
ORGANIZER;CN="Bettina Bergmann":MAILTO:bettina@joinusgruppentreffen.eu
END:VEVENT
BEGIN:VEVENT
DTSTART;TZID=Europe/Paris:20250913T140000
DTEND;TZID=Europe/Paris:20250913T170000
DTSTAMP:20260420T044239
CREATED:20250908T165503Z
LAST-MODIFIED:20250909T105227Z
UID:10050-1757772000-1757782800@cms.joinusgruppentreffen.eu
SUMMARY:Volksfest in Freising
DESCRIPTION:Treffpunkt im Zelt vor der Bühne
URL:https://cms.joinusgruppentreffen.eu/event/volksfest-in-freising/
LOCATION:Volksfestplatz Freising\, Luitpoldstr. 1\, Freising\, 85356\, Deutschland
CATEGORIES:Essen,Party's
ATTACH;FMTTYPE=image/jpeg:https://cms.joinusgruppentreffen.eu/wp-content/uploads/2024/08/Volksfest-Freising.jpg
ORGANIZER;CN="Bettina Bergmann":MAILTO:bettina@joinusgruppentreffen.eu
END:VEVENT
END:VCALENDAR